BEGIN:VCALENDAR
VERSION:2.0
PRODID:-//Foundation for Foster Children - ECPv6.9.1//NONSGML v1.0//EN
CALSCALE:GREGORIAN
METHOD:PUBLISH
X-WR-CALNAME:Foundation for Foster Children
X-ORIGINAL-URL:https://foundationforfosterchildren.org
X-WR-CALDESC:Events for Foundation for Foster Children
REFRESH-INTERVAL;VALUE=DURATION:PT1H
X-Robots-Tag:noindex
X-PUBLISHED-TTL:PT1H
BEGIN:VTIMEZONE
TZID:America/New_York
BEGIN:DAYLIGHT
TZOFFSETFROM:-0500
TZOFFSETTO:-0400
TZNAME:EDT
DTSTART:20270314T070000
END:DAYLIGHT
BEGIN:STANDARD
TZOFFSETFROM:-0400
TZOFFSETTO:-0500
TZNAME:EST
DTSTART:20271107T060000
END:STANDARD
BEGIN:DAYLIGHT
TZOFFSETFROM:-0500
TZOFFSETTO:-0400
TZNAME:EDT
DTSTART:20280312T070000
END:DAYLIGHT
BEGIN:STANDARD
TZOFFSETFROM:-0400
TZOFFSETTO:-0500
TZNAME:EST
DTSTART:20281105T060000
END:STANDARD
BEGIN:DAYLIGHT
TZOFFSETFROM:-0500
TZOFFSETTO:-0400
TZNAME:EDT
DTSTART:20290311T070000
END:DAYLIGHT
BEGIN:STANDARD
TZOFFSETFROM:-0400
TZOFFSETTO:-0500
TZNAME:EST
DTSTART:20291104T060000
END:STANDARD
END:VTIMEZONE
BEGIN:VEVENT
DTSTART;TZID=America/New_York:20270503T080000
DTEND;TZID=America/New_York:20270503T170000
DTSTAMP:20260424T072343
CREATED:20250220T194037Z
LAST-MODIFIED:20250220T194406Z
UID:10000273-1809331200-1809363600@foundationforfosterchildren.org
SUMMARY:Leu Gardens - Free Day & Story Time
DESCRIPTION:Entry is FREE for everyone during select first Mondays of the month from 9 a.m. to 5 p.m. \n\nMonday\, March 03\, 2025\nMonday\, April 07\, 2025\nMonday\, May 05\, 2025\nMonday\, June 02\, 2025\nMonday\, July 07\, 2025
URL:https://foundationforfosterchildren.org/event/leu-gardens-free-day-story-time/2027-05-03/
CATEGORIES:Free & Fun in the Community
END:VEVENT
BEGIN:VEVENT
DTSTART;TZID=America/New_York:20270607T080000
DTEND;TZID=America/New_York:20270607T170000
DTSTAMP:20260424T072343
CREATED:20250220T194037Z
LAST-MODIFIED:20250220T194406Z
UID:10000274-1812355200-1812387600@foundationforfosterchildren.org
SUMMARY:Leu Gardens - Free Day & Story Time
DESCRIPTION:Entry is FREE for everyone during select first Mondays of the month from 9 a.m. to 5 p.m. \n\nMonday\, March 03\, 2025\nMonday\, April 07\, 2025\nMonday\, May 05\, 2025\nMonday\, June 02\, 2025\nMonday\, July 07\, 2025
URL:https://foundationforfosterchildren.org/event/leu-gardens-free-day-story-time/2027-06-07/
CATEGORIES:Free & Fun in the Community
END:VEVENT
BEGIN:VEVENT
DTSTART;TZID=America/New_York:20270705T080000
DTEND;TZID=America/New_York:20270705T170000
DTSTAMP:20260424T072343
CREATED:20250220T194037Z
LAST-MODIFIED:20250220T194406Z
UID:10000275-1814774400-1814806800@foundationforfosterchildren.org
SUMMARY:Leu Gardens - Free Day & Story Time
DESCRIPTION:Entry is FREE for everyone during select first Mondays of the month from 9 a.m. to 5 p.m. \n\nMonday\, March 03\, 2025\nMonday\, April 07\, 2025\nMonday\, May 05\, 2025\nMonday\, June 02\, 2025\nMonday\, July 07\, 2025
URL:https://foundationforfosterchildren.org/event/leu-gardens-free-day-story-time/2027-07-05/
CATEGORIES:Free & Fun in the Community
END:VEVENT
BEGIN:VEVENT
DTSTART;TZID=America/New_York:20270802T080000
DTEND;TZID=America/New_York:20270802T170000
DTSTAMP:20260424T072343
CREATED:20250220T194037Z
LAST-MODIFIED:20250220T194406Z
UID:10000276-1817193600-1817226000@foundationforfosterchildren.org
SUMMARY:Leu Gardens - Free Day & Story Time
DESCRIPTION:Entry is FREE for everyone during select first Mondays of the month from 9 a.m. to 5 p.m. \n\nMonday\, March 03\, 2025\nMonday\, April 07\, 2025\nMonday\, May 05\, 2025\nMonday\, June 02\, 2025\nMonday\, July 07\, 2025
URL:https://foundationforfosterchildren.org/event/leu-gardens-free-day-story-time/2027-08-02/
CATEGORIES:Free & Fun in the Community
END:VEVENT
BEGIN:VEVENT
DTSTART;TZID=America/New_York:20270906T080000
DTEND;TZID=America/New_York:20270906T170000
DTSTAMP:20260424T072343
CREATED:20250220T194037Z
LAST-MODIFIED:20250220T194406Z
UID:10000277-1820217600-1820250000@foundationforfosterchildren.org
SUMMARY:Leu Gardens - Free Day & Story Time
DESCRIPTION:Entry is FREE for everyone during select first Mondays of the month from 9 a.m. to 5 p.m. \n\nMonday\, March 03\, 2025\nMonday\, April 07\, 2025\nMonday\, May 05\, 2025\nMonday\, June 02\, 2025\nMonday\, July 07\, 2025
URL:https://foundationforfosterchildren.org/event/leu-gardens-free-day-story-time/2027-09-06/
CATEGORIES:Free & Fun in the Community
END:VEVENT
BEGIN:VEVENT
DTSTART;TZID=America/New_York:20271004T080000
DTEND;TZID=America/New_York:20271004T170000
DTSTAMP:20260424T072343
CREATED:20250220T194037Z
LAST-MODIFIED:20250220T194406Z
UID:10000278-1822636800-1822669200@foundationforfosterchildren.org
SUMMARY:Leu Gardens - Free Day & Story Time
DESCRIPTION:Entry is FREE for everyone during select first Mondays of the month from 9 a.m. to 5 p.m. \n\nMonday\, March 03\, 2025\nMonday\, April 07\, 2025\nMonday\, May 05\, 2025\nMonday\, June 02\, 2025\nMonday\, July 07\, 2025
URL:https://foundationforfosterchildren.org/event/leu-gardens-free-day-story-time/2027-10-04/
CATEGORIES:Free & Fun in the Community
END:VEVENT
BEGIN:VEVENT
DTSTART;TZID=America/New_York:20271101T080000
DTEND;TZID=America/New_York:20271101T170000
DTSTAMP:20260424T072343
CREATED:20250220T194037Z
LAST-MODIFIED:20250220T194406Z
UID:10000279-1825056000-1825088400@foundationforfosterchildren.org
SUMMARY:Leu Gardens - Free Day & Story Time
DESCRIPTION:Entry is FREE for everyone during select first Mondays of the month from 9 a.m. to 5 p.m. \n\nMonday\, March 03\, 2025\nMonday\, April 07\, 2025\nMonday\, May 05\, 2025\nMonday\, June 02\, 2025\nMonday\, July 07\, 2025
URL:https://foundationforfosterchildren.org/event/leu-gardens-free-day-story-time/2027-11-01/
CATEGORIES:Free & Fun in the Community
END:VEVENT
BEGIN:VEVENT
DTSTART;TZID=America/New_York:20271206T080000
DTEND;TZID=America/New_York:20271206T170000
DTSTAMP:20260424T072343
CREATED:20250220T194037Z
LAST-MODIFIED:20250220T194406Z
UID:10000280-1828080000-1828112400@foundationforfosterchildren.org
SUMMARY:Leu Gardens - Free Day & Story Time
DESCRIPTION:Entry is FREE for everyone during select first Mondays of the month from 9 a.m. to 5 p.m. \n\nMonday\, March 03\, 2025\nMonday\, April 07\, 2025\nMonday\, May 05\, 2025\nMonday\, June 02\, 2025\nMonday\, July 07\, 2025
URL:https://foundationforfosterchildren.org/event/leu-gardens-free-day-story-time/2027-12-06/
CATEGORIES:Free & Fun in the Community
END:VEVENT
BEGIN:VEVENT
DTSTART;TZID=America/New_York:20280103T080000
DTEND;TZID=America/New_York:20280103T170000
DTSTAMP:20260424T072343
CREATED:20250220T194037Z
LAST-MODIFIED:20250220T194406Z
UID:10000281-1830499200-1830531600@foundationforfosterchildren.org
SUMMARY:Leu Gardens - Free Day & Story Time
DESCRIPTION:Entry is FREE for everyone during select first Mondays of the month from 9 a.m. to 5 p.m. \n\nMonday\, March 03\, 2025\nMonday\, April 07\, 2025\nMonday\, May 05\, 2025\nMonday\, June 02\, 2025\nMonday\, July 07\, 2025
URL:https://foundationforfosterchildren.org/event/leu-gardens-free-day-story-time/2028-01-03/
CATEGORIES:Free & Fun in the Community
END:VEVENT
BEGIN:VEVENT
DTSTART;TZID=America/New_York:20280207T080000
DTEND;TZID=America/New_York:20280207T170000
DTSTAMP:20260424T072343
CREATED:20250220T194037Z
LAST-MODIFIED:20250220T194406Z
UID:10000282-1833523200-1833555600@foundationforfosterchildren.org
SUMMARY:Leu Gardens - Free Day & Story Time
DESCRIPTION:Entry is FREE for everyone during select first Mondays of the month from 9 a.m. to 5 p.m. \n\nMonday\, March 03\, 2025\nMonday\, April 07\, 2025\nMonday\, May 05\, 2025\nMonday\, June 02\, 2025\nMonday\, July 07\, 2025
URL:https://foundationforfosterchildren.org/event/leu-gardens-free-day-story-time/2028-02-07/
CATEGORIES:Free & Fun in the Community
END:VEVENT
BEGIN:VEVENT
DTSTART;TZID=America/New_York:20280306T080000
DTEND;TZID=America/New_York:20280306T170000
DTSTAMP:20260424T072343
CREATED:20250220T194037Z
LAST-MODIFIED:20250220T194406Z
UID:10000283-1835942400-1835974800@foundationforfosterchildren.org
SUMMARY:Leu Gardens - Free Day & Story Time
DESCRIPTION:Entry is FREE for everyone during select first Mondays of the month from 9 a.m. to 5 p.m. \n\nMonday\, March 03\, 2025\nMonday\, April 07\, 2025\nMonday\, May 05\, 2025\nMonday\, June 02\, 2025\nMonday\, July 07\, 2025
URL:https://foundationforfosterchildren.org/event/leu-gardens-free-day-story-time/2028-03-06/
CATEGORIES:Free & Fun in the Community
END:VEVENT
BEGIN:VEVENT
DTSTART;TZID=America/New_York:20280403T080000
DTEND;TZID=America/New_York:20280403T170000
DTSTAMP:20260424T072343
CREATED:20250220T194037Z
LAST-MODIFIED:20250220T194406Z
UID:10000284-1838361600-1838394000@foundationforfosterchildren.org
SUMMARY:Leu Gardens - Free Day & Story Time
DESCRIPTION:Entry is FREE for everyone during select first Mondays of the month from 9 a.m. to 5 p.m. \n\nMonday\, March 03\, 2025\nMonday\, April 07\, 2025\nMonday\, May 05\, 2025\nMonday\, June 02\, 2025\nMonday\, July 07\, 2025
URL:https://foundationforfosterchildren.org/event/leu-gardens-free-day-story-time/2028-04-03/
CATEGORIES:Free & Fun in the Community
END:VEVENT
BEGIN:VEVENT
DTSTART;TZID=America/New_York:20280501T080000
DTEND;TZID=America/New_York:20280501T170000
DTSTAMP:20260424T072343
CREATED:20250220T194037Z
LAST-MODIFIED:20250220T194406Z
UID:10000285-1840780800-1840813200@foundationforfosterchildren.org
SUMMARY:Leu Gardens - Free Day & Story Time
DESCRIPTION:Entry is FREE for everyone during select first Mondays of the month from 9 a.m. to 5 p.m. \n\nMonday\, March 03\, 2025\nMonday\, April 07\, 2025\nMonday\, May 05\, 2025\nMonday\, June 02\, 2025\nMonday\, July 07\, 2025
URL:https://foundationforfosterchildren.org/event/leu-gardens-free-day-story-time/2028-05-01/
CATEGORIES:Free & Fun in the Community
END:VEVENT
BEGIN:VEVENT
DTSTART;TZID=America/New_York:20280605T080000
DTEND;TZID=America/New_York:20280605T170000
DTSTAMP:20260424T072343
CREATED:20250220T194037Z
LAST-MODIFIED:20250220T194406Z
UID:10000286-1843804800-1843837200@foundationforfosterchildren.org
SUMMARY:Leu Gardens - Free Day & Story Time
DESCRIPTION:Entry is FREE for everyone during select first Mondays of the month from 9 a.m. to 5 p.m. \n\nMonday\, March 03\, 2025\nMonday\, April 07\, 2025\nMonday\, May 05\, 2025\nMonday\, June 02\, 2025\nMonday\, July 07\, 2025
URL:https://foundationforfosterchildren.org/event/leu-gardens-free-day-story-time/2028-06-05/
CATEGORIES:Free & Fun in the Community
END:VEVENT
BEGIN:VEVENT
DTSTART;TZID=America/New_York:20280703T080000
DTEND;TZID=America/New_York:20280703T170000
DTSTAMP:20260424T072343
CREATED:20250220T194037Z
LAST-MODIFIED:20250220T194406Z
UID:10000287-1846224000-1846256400@foundationforfosterchildren.org
SUMMARY:Leu Gardens - Free Day & Story Time
DESCRIPTION:Entry is FREE for everyone during select first Mondays of the month from 9 a.m. to 5 p.m. \n\nMonday\, March 03\, 2025\nMonday\, April 07\, 2025\nMonday\, May 05\, 2025\nMonday\, June 02\, 2025\nMonday\, July 07\, 2025
URL:https://foundationforfosterchildren.org/event/leu-gardens-free-day-story-time/2028-07-03/
CATEGORIES:Free & Fun in the Community
END:VEVENT
BEGIN:VEVENT
DTSTART;TZID=America/New_York:20280807T080000
DTEND;TZID=America/New_York:20280807T170000
DTSTAMP:20260424T072343
CREATED:20250220T194037Z
LAST-MODIFIED:20250220T194406Z
UID:10000288-1849248000-1849280400@foundationforfosterchildren.org
SUMMARY:Leu Gardens - Free Day & Story Time
DESCRIPTION:Entry is FREE for everyone during select first Mondays of the month from 9 a.m. to 5 p.m. \n\nMonday\, March 03\, 2025\nMonday\, April 07\, 2025\nMonday\, May 05\, 2025\nMonday\, June 02\, 2025\nMonday\, July 07\, 2025
URL:https://foundationforfosterchildren.org/event/leu-gardens-free-day-story-time/2028-08-07/
CATEGORIES:Free & Fun in the Community
END:VEVENT
BEGIN:VEVENT
DTSTART;TZID=America/New_York:20280904T080000
DTEND;TZID=America/New_York:20280904T170000
DTSTAMP:20260424T072343
CREATED:20250220T194037Z
LAST-MODIFIED:20250220T194406Z
UID:10000289-1851667200-1851699600@foundationforfosterchildren.org
SUMMARY:Leu Gardens - Free Day & Story Time
DESCRIPTION:Entry is FREE for everyone during select first Mondays of the month from 9 a.m. to 5 p.m. \n\nMonday\, March 03\, 2025\nMonday\, April 07\, 2025\nMonday\, May 05\, 2025\nMonday\, June 02\, 2025\nMonday\, July 07\, 2025
URL:https://foundationforfosterchildren.org/event/leu-gardens-free-day-story-time/2028-09-04/
CATEGORIES:Free & Fun in the Community
END:VEVENT
BEGIN:VEVENT
DTSTART;TZID=America/New_York:20281002T080000
DTEND;TZID=America/New_York:20281002T170000
DTSTAMP:20260424T072343
CREATED:20250220T194037Z
LAST-MODIFIED:20250220T194406Z
UID:10000290-1854086400-1854118800@foundationforfosterchildren.org
SUMMARY:Leu Gardens - Free Day & Story Time
DESCRIPTION:Entry is FREE for everyone during select first Mondays of the month from 9 a.m. to 5 p.m. \n\nMonday\, March 03\, 2025\nMonday\, April 07\, 2025\nMonday\, May 05\, 2025\nMonday\, June 02\, 2025\nMonday\, July 07\, 2025
URL:https://foundationforfosterchildren.org/event/leu-gardens-free-day-story-time/2028-10-02/
CATEGORIES:Free & Fun in the Community
END:VEVENT
BEGIN:VEVENT
DTSTART;TZID=America/New_York:20281106T080000
DTEND;TZID=America/New_York:20281106T170000
DTSTAMP:20260424T072343
CREATED:20250220T194037Z
LAST-MODIFIED:20250220T194406Z
UID:10000291-1857110400-1857142800@foundationforfosterchildren.org
SUMMARY:Leu Gardens - Free Day & Story Time
DESCRIPTION:Entry is FREE for everyone during select first Mondays of the month from 9 a.m. to 5 p.m. \n\nMonday\, March 03\, 2025\nMonday\, April 07\, 2025\nMonday\, May 05\, 2025\nMonday\, June 02\, 2025\nMonday\, July 07\, 2025
URL:https://foundationforfosterchildren.org/event/leu-gardens-free-day-story-time/2028-11-06/
CATEGORIES:Free & Fun in the Community
END:VEVENT
BEGIN:VEVENT
DTSTART;TZID=America/New_York:20281204T080000
DTEND;TZID=America/New_York:20281204T170000
DTSTAMP:20260424T072343
CREATED:20250220T194037Z
LAST-MODIFIED:20250220T194406Z
UID:10000292-1859529600-1859562000@foundationforfosterchildren.org
SUMMARY:Leu Gardens - Free Day & Story Time
DESCRIPTION:Entry is FREE for everyone during select first Mondays of the month from 9 a.m. to 5 p.m. \n\nMonday\, March 03\, 2025\nMonday\, April 07\, 2025\nMonday\, May 05\, 2025\nMonday\, June 02\, 2025\nMonday\, July 07\, 2025
URL:https://foundationforfosterchildren.org/event/leu-gardens-free-day-story-time/2028-12-04/
CATEGORIES:Free & Fun in the Community
END:VEVENT
BEGIN:VEVENT
DTSTART;TZID=America/New_York:20290101T080000
DTEND;TZID=America/New_York:20290101T170000
DTSTAMP:20260424T072343
CREATED:20250220T194037Z
LAST-MODIFIED:20250220T194406Z
UID:10000293-1861948800-1861981200@foundationforfosterchildren.org
SUMMARY:Leu Gardens - Free Day & Story Time
DESCRIPTION:Entry is FREE for everyone during select first Mondays of the month from 9 a.m. to 5 p.m. \n\nMonday\, March 03\, 2025\nMonday\, April 07\, 2025\nMonday\, May 05\, 2025\nMonday\, June 02\, 2025\nMonday\, July 07\, 2025
URL:https://foundationforfosterchildren.org/event/leu-gardens-free-day-story-time/2029-01-01/
CATEGORIES:Free & Fun in the Community
END:VEVENT
BEGIN:VEVENT
DTSTART;TZID=America/New_York:20290205T080000
DTEND;TZID=America/New_York:20290205T170000
DTSTAMP:20260424T072343
CREATED:20250220T194037Z
LAST-MODIFIED:20250220T194406Z
UID:10000294-1864972800-1865005200@foundationforfosterchildren.org
SUMMARY:Leu Gardens - Free Day & Story Time
DESCRIPTION:Entry is FREE for everyone during select first Mondays of the month from 9 a.m. to 5 p.m. \n\nMonday\, March 03\, 2025\nMonday\, April 07\, 2025\nMonday\, May 05\, 2025\nMonday\, June 02\, 2025\nMonday\, July 07\, 2025
URL:https://foundationforfosterchildren.org/event/leu-gardens-free-day-story-time/2029-02-05/
CATEGORIES:Free & Fun in the Community
END:VEVENT
BEGIN:VEVENT
DTSTART;TZID=America/New_York:20290305T080000
DTEND;TZID=America/New_York:20290305T170000
DTSTAMP:20260424T072343
CREATED:20250220T194037Z
LAST-MODIFIED:20250220T194406Z
UID:10000295-1867392000-1867424400@foundationforfosterchildren.org
SUMMARY:Leu Gardens - Free Day & Story Time
DESCRIPTION:Entry is FREE for everyone during select first Mondays of the month from 9 a.m. to 5 p.m. \n\nMonday\, March 03\, 2025\nMonday\, April 07\, 2025\nMonday\, May 05\, 2025\nMonday\, June 02\, 2025\nMonday\, July 07\, 2025
URL:https://foundationforfosterchildren.org/event/leu-gardens-free-day-story-time/2029-03-05/
CATEGORIES:Free & Fun in the Community
END:VEVENT
BEGIN:VEVENT
DTSTART;TZID=America/New_York:20290402T080000
DTEND;TZID=America/New_York:20290402T170000
DTSTAMP:20260424T072343
CREATED:20250220T194037Z
LAST-MODIFIED:20250220T194406Z
UID:10000296-1869811200-1869843600@foundationforfosterchildren.org
SUMMARY:Leu Gardens - Free Day & Story Time
DESCRIPTION:Entry is FREE for everyone during select first Mondays of the month from 9 a.m. to 5 p.m. \n\nMonday\, March 03\, 2025\nMonday\, April 07\, 2025\nMonday\, May 05\, 2025\nMonday\, June 02\, 2025\nMonday\, July 07\, 2025
URL:https://foundationforfosterchildren.org/event/leu-gardens-free-day-story-time/2029-04-02/
CATEGORIES:Free & Fun in the Community
END:VEVENT
BEGIN:VEVENT
DTSTART;TZID=America/New_York:20290507T080000
DTEND;TZID=America/New_York:20290507T170000
DTSTAMP:20260424T072343
CREATED:20250220T194037Z
LAST-MODIFIED:20250220T194406Z
UID:10000297-1872835200-1872867600@foundationforfosterchildren.org
SUMMARY:Leu Gardens - Free Day & Story Time
DESCRIPTION:Entry is FREE for everyone during select first Mondays of the month from 9 a.m. to 5 p.m. \n\nMonday\, March 03\, 2025\nMonday\, April 07\, 2025\nMonday\, May 05\, 2025\nMonday\, June 02\, 2025\nMonday\, July 07\, 2025
URL:https://foundationforfosterchildren.org/event/leu-gardens-free-day-story-time/2029-05-07/
CATEGORIES:Free & Fun in the Community
END:VEVENT
BEGIN:VEVENT
DTSTART;TZID=America/New_York:20290604T080000
DTEND;TZID=America/New_York:20290604T170000
DTSTAMP:20260424T072343
CREATED:20250220T194037Z
LAST-MODIFIED:20250220T194406Z
UID:10000298-1875254400-1875286800@foundationforfosterchildren.org
SUMMARY:Leu Gardens - Free Day & Story Time
DESCRIPTION:Entry is FREE for everyone during select first Mondays of the month from 9 a.m. to 5 p.m. \n\nMonday\, March 03\, 2025\nMonday\, April 07\, 2025\nMonday\, May 05\, 2025\nMonday\, June 02\, 2025\nMonday\, July 07\, 2025
URL:https://foundationforfosterchildren.org/event/leu-gardens-free-day-story-time/2029-06-04/
CATEGORIES:Free & Fun in the Community
END:VEVENT
BEGIN:VEVENT
DTSTART;TZID=America/New_York:20290702T080000
DTEND;TZID=America/New_York:20290702T170000
DTSTAMP:20260424T072343
CREATED:20250220T194037Z
LAST-MODIFIED:20250220T194406Z
UID:10000299-1877673600-1877706000@foundationforfosterchildren.org
SUMMARY:Leu Gardens - Free Day & Story Time
DESCRIPTION:Entry is FREE for everyone during select first Mondays of the month from 9 a.m. to 5 p.m. \n\nMonday\, March 03\, 2025\nMonday\, April 07\, 2025\nMonday\, May 05\, 2025\nMonday\, June 02\, 2025\nMonday\, July 07\, 2025
URL:https://foundationforfosterchildren.org/event/leu-gardens-free-day-story-time/2029-07-02/
CATEGORIES:Free & Fun in the Community
END:VEVENT
BEGIN:VEVENT
DTSTART;TZID=America/New_York:20290806T080000
DTEND;TZID=America/New_York:20290806T170000
DTSTAMP:20260424T072343
CREATED:20250220T194037Z
LAST-MODIFIED:20250220T194406Z
UID:10000300-1880697600-1880730000@foundationforfosterchildren.org
SUMMARY:Leu Gardens - Free Day & Story Time
DESCRIPTION:Entry is FREE for everyone during select first Mondays of the month from 9 a.m. to 5 p.m. \n\nMonday\, March 03\, 2025\nMonday\, April 07\, 2025\nMonday\, May 05\, 2025\nMonday\, June 02\, 2025\nMonday\, July 07\, 2025
URL:https://foundationforfosterchildren.org/event/leu-gardens-free-day-story-time/2029-08-06/
CATEGORIES:Free & Fun in the Community
END:VEVENT
BEGIN:VEVENT
DTSTART;TZID=America/New_York:20290903T080000
DTEND;TZID=America/New_York:20290903T170000
DTSTAMP:20260424T072343
CREATED:20250220T194037Z
LAST-MODIFIED:20250220T194406Z
UID:10000301-1883116800-1883149200@foundationforfosterchildren.org
SUMMARY:Leu Gardens - Free Day & Story Time
DESCRIPTION:Entry is FREE for everyone during select first Mondays of the month from 9 a.m. to 5 p.m. \n\nMonday\, March 03\, 2025\nMonday\, April 07\, 2025\nMonday\, May 05\, 2025\nMonday\, June 02\, 2025\nMonday\, July 07\, 2025
URL:https://foundationforfosterchildren.org/event/leu-gardens-free-day-story-time/2029-09-03/
CATEGORIES:Free & Fun in the Community
END:VEVENT
BEGIN:VEVENT
DTSTART;TZID=America/New_York:20291001T080000
DTEND;TZID=America/New_York:20291001T170000
DTSTAMP:20260424T072343
CREATED:20250220T194037Z
LAST-MODIFIED:20250220T194406Z
UID:10000302-1885536000-1885568400@foundationforfosterchildren.org
SUMMARY:Leu Gardens - Free Day & Story Time
DESCRIPTION:Entry is FREE for everyone during select first Mondays of the month from 9 a.m. to 5 p.m. \n\nMonday\, March 03\, 2025\nMonday\, April 07\, 2025\nMonday\, May 05\, 2025\nMonday\, June 02\, 2025\nMonday\, July 07\, 2025
URL:https://foundationforfosterchildren.org/event/leu-gardens-free-day-story-time/2029-10-01/
CATEGORIES:Free & Fun in the Community
END:VEVENT
END:VCALENDAR