BEGIN:VCALENDAR
VERSION:2.0
PRODID:-//Foundation for Foster Children - ECPv6.9.1//NONSGML v1.0//EN
CALSCALE:GREGORIAN
METHOD:PUBLISH
X-WR-CALNAME:Foundation for Foster Children
X-ORIGINAL-URL:https://foundationforfosterchildren.org
X-WR-CALDESC:Events for Foundation for Foster Children
REFRESH-INTERVAL;VALUE=DURATION:PT1H
X-Robots-Tag:noindex
X-PUBLISHED-TTL:PT1H
BEGIN:VTIMEZONE
TZID:America/New_York
BEGIN:DAYLIGHT
TZOFFSETFROM:-0500
TZOFFSETTO:-0400
TZNAME:EDT
DTSTART:20250309T070000
END:DAYLIGHT
BEGIN:STANDARD
TZOFFSETFROM:-0400
TZOFFSETTO:-0500
TZNAME:EST
DTSTART:20251102T060000
END:STANDARD
END:VTIMEZONE
BEGIN:VEVENT
DTSTART;VALUE=DATE:20251101
DTEND;VALUE=DATE:20251102
DTSTAMP:20260423T155839
CREATED:20250925T193133Z
LAST-MODIFIED:20250925T193133Z
UID:10000391-1761955200-1762041599@foundationforfosterchildren.org
SUMMARY:Crayola Tickets
DESCRIPTION:To ensure as many foster children as possible can enjoy this opportunity\, each family group may request up to 3 tickets total (including siblings and other family members). Spots are limited\, so RSVP only for those who will attend!\nFoster parents & caregivers are welcome to separately purchase their own tickets (through the Crayola website) if they would like more than 3 tickets.\nCrayola Ticket RSVP Instructions: By submitting this RSVP\, you are claiming a CRAYOLA ticket. This RSVP confirmation is NOT your actual ticket. After you RSVP\, you will receive a confirmation email from our FFC staff (please allow 5 business days for this confirmation to arrive). We will provide instructions on how to access your tickets.\n\nAt Foundation for Foster Children (FFC)\, we are committed to supporting foster children\, foster youth\, and their families by providing access to our Enrichment Services. These services are available to: \n– Foster children and youth who are part of a licensed foster family\, kinship care family (Relative/Non-Relative)\, Group home. Transition Home. \n– Adopted children: To be eligible for Enrichment Services\, the child or youth must have received services from FFC at least three years prior to their adoption (as of January 1st\, 2022). \nPlease list the full names of each person in your party attending the event. If you are RSVPing for a foster child or youth\, they must be enrolled in the Enrich program to participate. If they have not yet completed the one-time Enrich Enrollment Form\, please complete it HERE before attending.
URL:https://foundationforfosterchildren.org/event/crayola-tickets/
CATEGORIES:Enrich
END:VEVENT
BEGIN:VEVENT
DTSTART;TZID=America/New_York:20251102T180000
DTEND;TZID=America/New_York:20251102T210000
DTSTAMP:20260423T155839
CREATED:20250703T185035Z
LAST-MODIFIED:20250703T185035Z
UID:10000376-1762106400-1762117200@foundationforfosterchildren.org
SUMMARY:Orlando Pride vs Seattle Reign - Sunday\, November 2nd (TBD time)
DESCRIPTION:The Foundation for Foster Children has partnered with the Orlando Pride to offer free tickets to several home games! We are so excited to share this opportunity with our families. \nTickets will be first-come\, first-served and sent to you digitally through Ticketmaster. You must have or create a Ticketmaster account using the email you provide below to receive your tickets. \n\n\nPlease only RSVP if you are committed to attending. \n\n\nYou will receive an email confirmation if your request is approved\, and the tickets will be transferred to your Ticketmaster account. \n\n\nPlease note: To ensure as many foster children and youth as possible can enjoy this opportunity\, each family group may request up to 5 tickets total. Spots are limited\, so RSVP only for those who will attend! \nAt Foundation for Foster Children (FFC)\, we are committed to supporting foster children\, foster youth\, and their families by providing access to our Enrichment Services. These services are available to: \n– Foster children and youth who are part of a licensed foster family\, kinship care family (Relative/Non-Relative)\, Group home. Transition Home. \n– Adopted children: To be eligible for Enrichment Services\, the child or youth must have received services from FFC at least three years prior to their adoption (as of January 1st\, 2022). \nPlease list the full names of each person in your party attending the event. If you are RSVPing for a foster child or youth\, they must be enrolled in the Enrich program to participate. If they have not yet completed the one-time Enrich Enrollment Form\, please complete it HERE before attending.
URL:https://foundationforfosterchildren.org/event/orlando-pride-vs-seattle-reign/
CATEGORIES:Enrich
END:VEVENT
BEGIN:VEVENT
DTSTART;TZID=America/New_York:20251103T080000
DTEND;TZID=America/New_York:20251103T170000
DTSTAMP:20260423T155839
CREATED:20250220T194037Z
LAST-MODIFIED:20250220T194406Z
UID:10000255-1762156800-1762189200@foundationforfosterchildren.org
SUMMARY:Leu Gardens - Free Day & Story Time
DESCRIPTION:Entry is FREE for everyone during select first Mondays of the month from 9 a.m. to 5 p.m. \n\nMonday\, March 03\, 2025\nMonday\, April 07\, 2025\nMonday\, May 05\, 2025\nMonday\, June 02\, 2025\nMonday\, July 07\, 2025
URL:https://foundationforfosterchildren.org/event/leu-gardens-free-day-story-time/2025-11-03/
CATEGORIES:Free & Fun in the Community
END:VEVENT
BEGIN:VEVENT
DTSTART;TZID=America/New_York:20251103T093000
DTEND;TZID=America/New_York:20251103T160000
DTSTAMP:20260423T155839
CREATED:20250226T192633Z
LAST-MODIFIED:20251017T194440Z
UID:10000329-1762162200-1762185600@foundationforfosterchildren.org
SUMMARY:Championship for Children: 2025 Golf Tournament
DESCRIPTION:Since 2008\, the Foundation for Foster Children has been making a lasting impact on Central Florida’s foster youth\, serving Orange\, Osceola\, and Seminole counties. Every day\, we witness the resilience\, dreams\, and potential of children in foster care\, and through our Enrich\, Educate\, and Empower programs\, we ensure they have the support needed to thrive. In 2024\, we provided over 9\,000 hours of direct support—bridging academic gaps\, creating life-changing experiences\, and helping young adults transition to independence. \nWhether you’re playing in a foursome or becoming a sponsor\, your support fuels our mission—to create meaningful connections for children in foster care through personalized support. Together\, we are building a future where every foster child feels seen\, supported\, and empowered to chase their dreams. \nCLICK HERE TO LEARN MORE OR BECOME A SPONSOR TO PLAY
URL:https://foundationforfosterchildren.org/event/championship-for-children-2025-golf-tournament/
LOCATION:Country Club of Orlando\, 1601 Country Club Dr\, Orlando\, FL\, 32804\, United States
CATEGORIES:Fundraiser
ORGANIZER;CN="Foundation for Foster Children":MAILTO:info@ffc.org
END:VEVENT
BEGIN:VEVENT
DTSTART;TZID=America/New_York:20251109T180000
DTEND;TZID=America/New_York:20251109T200000
DTSTAMP:20260423T155839
CREATED:20251016T202445Z
LAST-MODIFIED:20251023T173810Z
UID:10000394-1762711200-1762718400@foundationforfosterchildren.org
SUMMARY:Orlando Magic vs Celtics - November 9th
DESCRIPTION:Thanks to the Orlando Magic’s Share the Magic program\, the Foundation for Foster Children has received donated tickets for select home games this season! Caregivers can request tickets for the youth in their care by completing the RSVP form below. \nImportant Information: \n\nEach game includes 20 tickets\, available on a first-come\, first-served basis.\nCompleting this RSVP form does not guarantee tickets. You will receive a confirmation email once your request is approved.\nIf approved\, tickets will be sent via email 24 hours before the game.\nTickets are digital only and will be transferred through Ticketmaster. You must have both a Ticketmaster account and an Orlando Magic account using the same email address to receive the tickets.\nPlease check your email (including spam/junk folders) for your confirmation and ticket delivery.\n\nWe’re so excited to offer this opportunity for your family to enjoy a fun night out cheering on the Orlando Magic!
URL:https://foundationforfosterchildren.org/event/orlando-magic-vs-celtics/
CATEGORIES:Enrich
END:VEVENT
BEGIN:VEVENT
DTSTART;TZID=America/New_York:20251113T160000
DTEND;TZID=America/New_York:20251113T190000
DTSTAMP:20260423T155839
CREATED:20250711T182635Z
LAST-MODIFIED:20250711T182635Z
UID:10000380-1763049600-1763060400@foundationforfosterchildren.org
SUMMARY:Jeni's Ice Cream Social Benefiting FFC! 🍦
DESCRIPTION:Join Us for a Sweet Cause! 🍦Ice Cream Social at Jeni’s – November 13 | 4:00 – 7:00 PMJeni’s Splendid Ice Creams\, 510 Orlando Ave\, Winter Park \nTreat yourself to something sweet while giving back! Stop by Jeni’s in Winter Park on November 13th between 4–7 PM for our Ice Cream Social\, where 25% of all sales will be donated to the Foundation for Foster Children. \nBring your family\, swing by with friends\, or treat the kids after school — every scoop supports our mission to create meaningful connections and personalized support for foster youth across Central Florida. \nThis is more than just dessert; it’s an opportunity to connect community with cause in the most delicious way possible. \nWe can’t wait to see you there!
URL:https://foundationforfosterchildren.org/event/jenis-ice-cream-social-5/
LOCATION:Jeni’s Ice Cream\, 510 N Orlando Ave #102\, Winter Park\, FL\, 32789
CATEGORIES:Fundraiser
END:VEVENT
BEGIN:VEVENT
DTSTART;TZID=America/New_York:20251114T190000
DTEND;TZID=America/New_York:20251114T210000
DTSTAMP:20260423T155839
CREATED:20251016T202743Z
LAST-MODIFIED:20251016T202758Z
UID:10000395-1763146800-1763154000@foundationforfosterchildren.org
SUMMARY:Orlando Magic vs Nets - November 14th
DESCRIPTION:Thanks to the Orlando Magic’s Share the Magic program\, the Foundation for Foster Children has received donated tickets for select home games this season! Caregivers can request tickets for the youth in their care by completing the RSVP form below. \nImportant Information: \n\nEach game includes 20 tickets\, available on a first-come\, first-served basis.\nCompleting this RSVP form does not guarantee tickets. You will receive a confirmation email once your request is approved.\nIf approved\, tickets will be sent via email 24 hours before the game.\nTickets are digital only and will be transferred through Ticketmaster. You must have both a Ticketmaster account and an Orlando Magic account using the same email address to receive the tickets.\nPlease check your email (including spam/junk folders) for your confirmation and ticket delivery.\n\nWe’re so excited to offer this opportunity for your family to enjoy a fun night out cheering on the Orlando Magic!
URL:https://foundationforfosterchildren.org/event/orlando-magic-vs-nets/
CATEGORIES:Enrich
END:VEVENT
BEGIN:VEVENT
DTSTART;TZID=America/New_York:20251115T110000
DTEND;TZID=America/New_York:20251115T123000
DTSTAMP:20260423T155839
CREATED:20251112T175026Z
LAST-MODIFIED:20251114T205844Z
UID:10000404-1763204400-1763209800@foundationforfosterchildren.org
SUMMARY:Dog Man Community Giveback at the Dr. Phillips Center
DESCRIPTION:Dog Man The Musical on Saturday\, November 15th at 11 am inside Steinmetz Hall. Based on the worldwide bestselling hit series by Dav Pilkey\, Dog Man: The Musical is a hilarious and heartwarming production geared toward children ages 7-10. \nDetails\nDate: Saturday\, November 15th\nShow Time & Length: 11 am\, 1 hr. 30 min\nLocation: Steinmetz Hall\nLearn more about the show: Dog Man | Dr. Phillips Center for the Performing Arts
URL:https://foundationforfosterchildren.org/event/dog-man-community-giveback-at-the-dr-phillips-center/
CATEGORIES:Enrich
END:VEVENT
BEGIN:VEVENT
DTSTART;TZID=America/New_York:20251120T100000
DTEND;TZID=America/New_York:20251120T200000
DTSTAMP:20260423T155839
CREATED:20250219T174029Z
LAST-MODIFIED:20250220T152211Z
UID:10000196-1763632800-1763668800@foundationforfosterchildren.org
SUMMARY:Orlando Museum of Art - FREE Entry
DESCRIPTION:Access for All at OMA is a monthly free day dedicated to the community. On the third Thursday of each month\, OMA will extend their hours from 10 AM to 8 PM\, offering free admission to all visitors. Each event will feature live performances\, educational experiences\, and more! Sketching materials will be available to visitors between 5 pm and 7 pm\, and a docent-led highlights tour will be held at 7 pm. \nAccess for All at OMA 2025 Dates: \nJanuary 16\nFebruary 20\nMarch 20\nApril 17\nMay 15\nJune 19\nJuly 17\nAugust 21\nSeptember 18\nOctober 16\nDecember 18
URL:https://foundationforfosterchildren.org/event/happening-in-the-community-orlando-museum-of-art-free-entry/2025-11-20/
CATEGORIES:Free & Fun in the Community
END:VEVENT
BEGIN:VEVENT
DTSTART;TZID=America/New_York:20251120T170000
DTEND;TZID=America/New_York:20251120T210000
DTSTAMP:20260423T155839
CREATED:20250220T194616Z
LAST-MODIFIED:20250220T194616Z
UID:10000310-1763658000-1763672400@foundationforfosterchildren.org
SUMMARY:Orange County History Center - Free Admission
DESCRIPTION:Enjoy free admission to the Orange County History Center on event nights. Discover four floors of Central Florida history across an array of rotating and permanent exhibits\, immersive displays\, and interactive experiences.
URL:https://foundationforfosterchildren.org/event/orange-county-history-center-free-admission/2025-11-20/
CATEGORIES:Free & Fun in the Community
END:VEVENT
BEGIN:VEVENT
DTSTART;TZID=America/New_York:20251122T093000
DTEND;TZID=America/New_York:20251122T130000
DTSTAMP:20260423T155839
CREATED:20250922T170737Z
LAST-MODIFIED:20251117T164059Z
UID:10000390-1763803800-1763816400@foundationforfosterchildren.org
SUMMARY:Fall into Fun
DESCRIPTION:🍂 Fall Arts & Crafts Day\nJoin us for a fun-filled morning of Thanksgiving & holiday-themed arts and crafts designed especially for kids ages 7–14! \nStudents will rotate through four craft stations\, creating festive projects they can take home. \n📅 Date: Saturday\, November 22\, 2025📍 Location: Foundation for Foster Children – Downstairs Office2265 Lee Rd\, Suite 103\, Winter Park\, FL 32789\nDress code: Comfy pajamas! \n\n⏰ Time Slots (choose one below)\n\n\n9:30 AM – 11:00 AM (Max: 20 students) \n\n\n11:30 AM – 1:00 PM (Max: 20 students) \n\n\n\n✅ RSVP Details\n\n\nOpen to youth ages 7–14. \n\n\nSpaces are limited to 20 per session. \n\n\nCaregivers must register their child in advance to secure a spot. \n\n\nLunch will be provided to-go after each session.
URL:https://foundationforfosterchildren.org/event/fall-into-fun/
CATEGORIES:Enrich
END:VEVENT
END:VCALENDAR