BEGIN:VCALENDAR
VERSION:2.0
PRODID:-//Foundation for Foster Children - ECPv6.9.1//NONSGML v1.0//EN
CALSCALE:GREGORIAN
METHOD:PUBLISH
X-ORIGINAL-URL:https://foundationforfosterchildren.org
X-WR-CALDESC:Events for Foundation for Foster Children
REFRESH-INTERVAL;VALUE=DURATION:PT1H
X-Robots-Tag:noindex
X-PUBLISHED-TTL:PT1H
BEGIN:VTIMEZONE
TZID:America/New_York
BEGIN:DAYLIGHT
TZOFFSETFROM:-0500
TZOFFSETTO:-0400
TZNAME:EDT
DTSTART:20250309T070000
END:DAYLIGHT
BEGIN:STANDARD
TZOFFSETFROM:-0400
TZOFFSETTO:-0500
TZNAME:EST
DTSTART:20251102T060000
END:STANDARD
END:VTIMEZONE
BEGIN:VEVENT
DTSTART;TZID=America/New_York:20250602T080000
DTEND;TZID=America/New_York:20250602T170000
DTSTAMP:20260422T152820
CREATED:20250220T194037Z
LAST-MODIFIED:20250220T194406Z
UID:10000250-1748851200-1748883600@foundationforfosterchildren.org
SUMMARY:Leu Gardens - Free Day & Story Time
DESCRIPTION:Entry is FREE for everyone during select first Mondays of the month from 9 a.m. to 5 p.m. \n\nMonday\, March 03\, 2025\nMonday\, April 07\, 2025\nMonday\, May 05\, 2025\nMonday\, June 02\, 2025\nMonday\, July 07\, 2025
URL:https://foundationforfosterchildren.org/event/leu-gardens-free-day-story-time/2025-06-02/
CATEGORIES:Free & Fun in the Community
END:VEVENT
BEGIN:VEVENT
DTSTART;TZID=America/New_York:20250611T160000
DTEND;TZID=America/New_York:20250611T190000
DTSTAMP:20260422T152820
CREATED:20250425T142534Z
LAST-MODIFIED:20250425T151517Z
UID:10000357-1749657600-1749668400@foundationforfosterchildren.org
SUMMARY:Jeni's Ice Cream Social Benefiting FFC! 🍦
DESCRIPTION:Join Us for a Sweet Cause! 🍦Ice Cream Social at Jeni’s – June 11 | 4:00 – 7:00 PMJeni’s Splendid Ice Creams\, 510 Orlando Ave\, Winter Park \nTreat yourself to something sweet while giving back! Stop by Jeni’s in Winter Park on June 11th between 4–7 PM for our Ice Cream Social\, where 25% of all sales will be donated to the Foundation for Foster Children. \nBring your family\, swing by with friends\, or treat the kids after school — every scoop supports our mission to create meaningful connections and personalized support for foster youth across Central Florida. \nThis is more than just dessert; it’s an opportunity to connect community with cause in the most delicious way possible. \nWe can’t wait to see you there!
URL:https://foundationforfosterchildren.org/event/jenis-ice-cream-social/
LOCATION:Jeni’s Ice Cream\, 510 N Orlando Ave #102\, Winter Park\, FL\, 32789
CATEGORIES:Fundraiser
END:VEVENT
BEGIN:VEVENT
DTSTART;TZID=America/New_York:20250612T083000
DTEND;TZID=America/New_York:20250612T103000
DTSTAMP:20260422T152820
CREATED:20250530T181211Z
LAST-MODIFIED:20250530T181211Z
UID:10000362-1749717000-1749724200@foundationforfosterchildren.org
SUMMARY:Board Meeting (Virtual)
DESCRIPTION:
URL:https://foundationforfosterchildren.org/event/board-meeting-virtual/
CATEGORIES:Board Calendar
END:VEVENT
BEGIN:VEVENT
DTSTART;TZID=America/New_York:20250619T100000
DTEND;TZID=America/New_York:20250619T200000
DTSTAMP:20260422T152820
CREATED:20250219T174029Z
LAST-MODIFIED:20250220T152211Z
UID:10000191-1750327200-1750363200@foundationforfosterchildren.org
SUMMARY:Orlando Museum of Art - FREE Entry
DESCRIPTION:Access for All at OMA is a monthly free day dedicated to the community. On the third Thursday of each month\, OMA will extend their hours from 10 AM to 8 PM\, offering free admission to all visitors. Each event will feature live performances\, educational experiences\, and more! Sketching materials will be available to visitors between 5 pm and 7 pm\, and a docent-led highlights tour will be held at 7 pm. \nAccess for All at OMA 2025 Dates: \nJanuary 16\nFebruary 20\nMarch 20\nApril 17\nMay 15\nJune 19\nJuly 17\nAugust 21\nSeptember 18\nOctober 16\nDecember 18
URL:https://foundationforfosterchildren.org/event/happening-in-the-community-orlando-museum-of-art-free-entry/2025-06-19/
CATEGORIES:Free & Fun in the Community
END:VEVENT
BEGIN:VEVENT
DTSTART;VALUE=DATE:20250621
DTEND;VALUE=DATE:20250622
DTSTAMP:20260422T152820
CREATED:20250313T164949Z
LAST-MODIFIED:20250502T154758Z
UID:10000333-1750464000-1750550399@foundationforfosterchildren.org
SUMMARY:Aquatica Tickets
DESCRIPTION:At Foundation for Foster Children (FFC)\, we are committed to supporting foster children\, foster youth\, and their families by providing access to our Enrichment Services. These services are available to: \n– Foster children and youth who are part of a licensed foster family\, kinship care family (Relative/Non-Relative)\, Group home. Transition Home. \n– Adopted children: To be eligible for Enrichment Services\, the child or youth must have received services from FFC at least three years prior to their adoption (as of January 1st\, 2022). \nPlease list the full names of each person in your party attending the event. If you are RSVPing for a foster child or youth\, they must be enrolled in the Enrich program to participate. If they have not yet completed the one-time Enrich Enrollment Form\, please complete it HERE before attending. \nPlease note: To ensure as many foster families as possible can enjoy this opportunity\, each family group may request up to 5 tickets total (including chaperones and siblings). Spots are limited\, so RSVP only for those who will attend! The RSVP confirmation you receive is NOT your actual ticket. Aquatica tickets can be picked up at the FFC office the week of June 16th.
URL:https://foundationforfosterchildren.org/event/aquatica-tickets/
LOCATION:Aquatica\, 5800 Water Play Way\, Orlando\, FL\, 32821\, United States
CATEGORIES:Enrich
END:VEVENT
BEGIN:VEVENT
DTSTART;TZID=America/New_York:20250627T080000
DTEND;TZID=America/New_York:20250627T170000
DTSTAMP:20260422T152820
CREATED:20250324T141332Z
LAST-MODIFIED:20250324T141332Z
UID:10000342-1751011200-1751043600@foundationforfosterchildren.org
SUMMARY:Empower Workshop: Money Management\, Housing\, Daily Living
DESCRIPTION:
URL:https://foundationforfosterchildren.org/event/empower-workshop-money-management-housing-daily-living/
CATEGORIES:Empower
END:VEVENT
BEGIN:VEVENT
DTSTART;TZID=America/New_York:20250627T120000
DTEND;TZID=America/New_York:20250627T160000
DTSTAMP:20260422T152820
CREATED:20250505T193035Z
LAST-MODIFIED:20250624T161113Z
UID:10000360-1751025600-1751040000@foundationforfosterchildren.org
SUMMARY:Sip & Shop with J.McLaughlin
DESCRIPTION:Join our Board of Directors for an afternoon of style and support at our Sip & Shop event on Friday\, June 27th from 12 PM to 4 PM! Enjoy champagne\, sparkling water\, and sweet treats while browsing beautiful collections—and feel good knowing that 10% of all sales will directly benefit the Foundation for Foster Children. Your purchases will help create meaningful connections and personalized support for youth transitioning out of foster care. Come sip\, shop\, and make a difference!
URL:https://foundationforfosterchildren.org/event/sip-shop-with-j-mclaughlin/
LOCATION:J.McLaughlin\, 218 N Park Ave\, Winter Park\, FL\, 32789
CATEGORIES:Fundraiser
END:VEVENT
END:VCALENDAR