BEGIN:VCALENDAR
VERSION:2.0
PRODID:-//Foundation for Foster Children - ECPv6.9.1//NONSGML v1.0//EN
CALSCALE:GREGORIAN
METHOD:PUBLISH
X-ORIGINAL-URL:https://foundationforfosterchildren.org
X-WR-CALDESC:Events for Foundation for Foster Children
REFRESH-INTERVAL;VALUE=DURATION:PT1H
X-Robots-Tag:noindex
X-PUBLISHED-TTL:PT1H
BEGIN:VTIMEZONE
TZID:America/New_York
BEGIN:DAYLIGHT
TZOFFSETFROM:-0500
TZOFFSETTO:-0400
TZNAME:EDT
DTSTART:20250309T070000
END:DAYLIGHT
BEGIN:STANDARD
TZOFFSETFROM:-0400
TZOFFSETTO:-0500
TZNAME:EST
DTSTART:20251102T060000
END:STANDARD
END:VTIMEZONE
BEGIN:VEVENT
DTSTART;TZID=America/New_York:20250918T153000
DTEND;TZID=America/New_York:20250918T213000
DTSTAMP:20260421T190342
CREATED:20250822T145701Z
LAST-MODIFIED:20250822T151047Z
UID:10000386-1758209400-1758231000@foundationforfosterchildren.org
SUMMARY:Volunteer Opportunity - Driven by Purpose at Fields BMW
DESCRIPTION:Join us for Driven by Purpose\, the capstone event of the Foundation for Foster Children’s 15th year. Guests will experience our mission in motion through immersive stories\, meaningful connections\, and an inspiring program. \nVolunteers will help with: \n– Guest check-in and registration\n– Greeting and directing attendees\n– Supporting the immersive experience stations\n– Event flow assistance and cleanup \nThis is a meaningful opportunity to be part of a night that raises awareness and support for youth navigating the foster care system. \nLocation: 963 Wymore Rd\, Winter Park\, FL 32789 \nTime Commitment: 3:30 pm to 9:30 pm 
URL:https://foundationforfosterchildren.org/event/volunteer-opportunity-driven-by-purpose-at-fields-bmw/
LOCATION:Fields BMW\, 963 Wymore Rd\, Winter Park\, FL\, 32789\, United States
CATEGORIES:Volunteer
END:VEVENT
BEGIN:VEVENT
DTSTART;TZID=America/New_York:20250920T090000
DTEND;TZID=America/New_York:20250920T133000
DTSTAMP:20260421T190342
CREATED:20250915T153112Z
LAST-MODIFIED:20250915T153112Z
UID:10000388-1758358800-1758375000@foundationforfosterchildren.org
SUMMARY:VOLUNTEER - Saturday\, September 20th - Let's Get Creative at The Abbey
DESCRIPTION:What is it?\nJoin FFC on September 20th for Get Creative at The Abbey! The event is a fine arts-focused afternoon of 4 mini masterclass stations\, taught by local artists and theater personnel. Each attendee will get to participate in all 4 stations\, spending 20 minutes at each one. At the end\, there will be an opportunity for anyone to show off what they created or learned! \n\nStation 1: Writing/Poetry (Hosted by Page 15)\nStation 2: Acrylic Painting\nStation 3: Acting\nStation 4: Improv (Hosted by SAK Comedy)\n\nWhere?\nThe Abbey – 100 S Eola Dr UNIT 100 Orlando\, FL 32801\n\n\nVolunteer Roles & Duties: \n✔️ Volunteers arrive at 9:00 AM for set-up✔️ Event Check-In (welcome guests + distribute name tags)✔️ Food Distribution (help pass out Panera pre-packed meals)✔️ Workshop Assistance (support sessions like acrylic painting\, improv\, acting\, poetry)✔️ Student Engagement (interact with youth\, guide them between sessions\, answer questions)✔️ Event Set-Up & Clean-Up \n✨ No experience needed—just bring your positive energy and a smile! \nRequirements: \n\n\nVolunteers must be 18+ \n\n\nComfortable engaging with students and assisting where needed \n\n\n\n\nGet Creative at The Abbey – September 2024
URL:https://foundationforfosterchildren.org/event/saturday-september-20th-lets-get-creative-at-the-abbey-volunteer/
LOCATION:The Abbey\, 100 S Eola Dr UNIT 100\, Orlando\, FL\, 32801\, United States
CATEGORIES:Volunteer
END:VEVENT
END:VCALENDAR