BEGIN:VCALENDAR
VERSION:2.0
PRODID:-//Foundation for Foster Children - ECPv6.9.1//NONSGML v1.0//EN
CALSCALE:GREGORIAN
METHOD:PUBLISH
X-WR-CALNAME:Foundation for Foster Children
X-ORIGINAL-URL:https://foundationforfosterchildren.org
X-WR-CALDESC:Events for Foundation for Foster Children
REFRESH-INTERVAL;VALUE=DURATION:PT1H
X-Robots-Tag:noindex
X-PUBLISHED-TTL:PT1H
BEGIN:VTIMEZONE
TZID:America/New_York
BEGIN:DAYLIGHT
TZOFFSETFROM:-0500
TZOFFSETTO:-0400
TZNAME:EDT
DTSTART:20250309T070000
END:DAYLIGHT
BEGIN:STANDARD
TZOFFSETFROM:-0400
TZOFFSETTO:-0500
TZNAME:EST
DTSTART:20251102T060000
END:STANDARD
END:VTIMEZONE
BEGIN:VEVENT
DTSTART;TZID=America/New_York:20250920T100000
DTEND;TZID=America/New_York:20250920T130000
DTSTAMP:20260425T212818
CREATED:20250128T175421Z
LAST-MODIFIED:20250909T193431Z
UID:10000185-1758362400-1758373200@foundationforfosterchildren.org
SUMMARY:Saturday\, September 20th - Let's Get Creative at The Abbey
DESCRIPTION:What is it?\nJoin FFC on September 20th from 10 am-1 pm for Get Creative at The Abbey! The event is a fine arts-focused afternoon of 4 mini masterclass stations\, taught by local artists and theater personnel. Each attendee will get to participate in all 4 stations\, spending 20 minutes at each one. At the end\, there will be an opportunity for anyone to show off what they created or learned! This event is appropriate for ages: 12 – 18 \n\nStation 1: Writing/Poetry (Hosted by Page 15)\nStation 2: Acrylic Painting\nStation 3: Acting\nStation 4: Improv (Hosted by SAK Comedy)\n\nWhere?\nThe Abbey – 100 S Eola Dr UNIT 100 Orlando\, FL 32801\n\n\nGet Creative at The Abbey – September 2024
URL:https://foundationforfosterchildren.org/event/saturday-september-20th-lets-get-creative-at-the-abbey/
LOCATION:The Abbey\, 100 S Eola Dr UNIT 100\, Orlando\, FL\, 32801\, United States
CATEGORIES:Enrich
END:VEVENT
BEGIN:VEVENT
DTSTART;TZID=America/New_York:20250913T170000
DTEND;TZID=America/New_York:20250913T190000
DTSTAMP:20260425T212818
CREATED:20250703T184424Z
LAST-MODIFIED:20250804T174916Z
UID:10000373-1757782800-1757790000@foundationforfosterchildren.org
SUMMARY:Orlando Pride vs Bay FC - Saturday\, September 13th 5PM
DESCRIPTION:The Foundation for Foster Children has partnered with the Orlando Pride to offer free tickets to several home games! We are so excited to share this opportunity with our families. \nTickets will be first-come\, first-served and sent to you digitally through Ticketmaster. You must have or create a Ticketmaster account using the email you provide below to receive your tickets. \n\n\nPlease only RSVP if you are committed to attending. \n\n\nYou will receive an email confirmation if your request is approved\, and the tickets will be transferred to your Ticketmaster account. \n\n\nPlease note: To ensure as many foster children and youth as possible can enjoy this opportunity\, each family group may request up to 5 tickets total. Spots are limited\, so RSVP only for those who will attend! \nAt Foundation for Foster Children (FFC)\, we are committed to supporting foster children\, foster youth\, and their families by providing access to our Enrichment Services. These services are available to: \n– Foster children and youth who are part of a licensed foster family\, kinship care family (Relative/Non-Relative)\, Group home. Transition Home. \n– Adopted children: To be eligible for Enrichment Services\, the child or youth must have received services from FFC at least three years prior to their adoption (as of January 1st\, 2022). \nPlease list the full names of each person in your party attending the event. If you are RSVPing for a foster child or youth\, they must be enrolled in the Enrich program to participate. If they have not yet completed the one-time Enrich Enrollment Form\, please complete it HERE before attending.
URL:https://foundationforfosterchildren.org/event/orlando-pride-vs-bay-fc/
CATEGORIES:Enrich
END:VEVENT
BEGIN:VEVENT
DTSTART;TZID=America/New_York:20250829T200000
DTEND;TZID=America/New_York:20250829T220000
DTSTAMP:20260425T212818
CREATED:20250703T184111Z
LAST-MODIFIED:20250828T145636Z
UID:10000372-1756497600-1756504800@foundationforfosterchildren.org
SUMMARY:Orlando Pride vs. NJ/NY Gotham - Friday\, August 29th 8PM
DESCRIPTION:The Foundation for Foster Children has partnered with the Orlando Pride to offer free tickets to several home games! We are so excited to share this opportunity with our families. \nTickets will be first-come\, first-served and sent to you digitally through Ticketmaster. You must have or create a Ticketmaster account using the email you provide below to receive your tickets. \n\n\nPlease only RSVP if you are committed to attending. \n\n\nYou will receive an email confirmation if your request is approved\, and the tickets will be transferred to your Ticketmaster account. \n\n\nPlease note: To ensure as many foster children and youth as possible can enjoy this opportunity\, each family group may request up to 5 tickets total. Spots are limited\, so RSVP only for those who will attend! \nAt Foundation for Foster Children (FFC)\, we are committed to supporting foster children\, foster youth\, and their families by providing access to our Enrichment Services. These services are available to: \n– Foster children and youth who are part of a licensed foster family\, kinship care family (Relative/Non-Relative)\, Group home. Transition Home. \n– Adopted children: To be eligible for Enrichment Services\, the child or youth must have received services from FFC at least three years prior to their adoption (as of January 1st\, 2022). \nPlease list the full names of each person in your party attending the event. If you are RSVPing for a foster child or youth\, they must be enrolled in the Enrich program to participate. If they have not yet completed the one-time Enrich Enrollment Form\, please complete it HERE before attending.
URL:https://foundationforfosterchildren.org/event/orlando-pride-vs-nj-ny/
CATEGORIES:Enrich
END:VEVENT
BEGIN:VEVENT
DTSTART;TZID=America/New_York:20250809T193000
DTEND;TZID=America/New_York:20250809T213000
DTSTAMP:20260425T212818
CREATED:20250703T183858Z
LAST-MODIFIED:20250703T183858Z
UID:10000371-1754767800-1754775000@foundationforfosterchildren.org
SUMMARY:Orlando Pride vs. Racing Louisville - Saturday\, August 9th 7:30PM
DESCRIPTION:The Foundation for Foster Children has partnered with the Orlando Pride to offer free tickets to several home games! We are so excited to share this opportunity with our families. \nTickets will be first-come\, first-served and sent to you digitally through Ticketmaster. You must have or create a Ticketmaster account using the email you provide below to receive your tickets. \n\n\nPlease only RSVP if you are committed to attending. \n\n\nYou will receive an email confirmation if your request is approved\, and the tickets will be transferred to your Ticketmaster account. \n\n\nPlease note: To ensure as many foster children and youth as possible can enjoy this opportunity\, each family group may request up to 5 tickets total. Spots are limited\, so RSVP only for those who will attend! \nAt Foundation for Foster Children (FFC)\, we are committed to supporting foster children\, foster youth\, and their families by providing access to our Enrichment Services. These services are available to: \n– Foster children and youth who are part of a licensed foster family\, kinship care family (Relative/Non-Relative)\, Group home. Transition Home. \n– Adopted children: To be eligible for Enrichment Services\, the child or youth must have received services from FFC at least three years prior to their adoption (as of January 1st\, 2022). \nPlease list the full names of each person in your party attending the event. If you are RSVPing for a foster child or youth\, they must be enrolled in the Enrich program to participate. If they have not yet completed the one-time Enrich Enrollment Form\, please complete it HERE before attending.
URL:https://foundationforfosterchildren.org/event/orlando-pride-vs-racing/
CATEGORIES:Enrich
END:VEVENT
BEGIN:VEVENT
DTSTART;TZID=America/New_York:20250803T180000
DTEND;TZID=America/New_York:20250803T210000
DTSTAMP:20260425T212818
CREATED:20250703T174533Z
LAST-MODIFIED:20250703T175113Z
UID:10000370-1754244000-1754254800@foundationforfosterchildren.org
SUMMARY:Orlando Pride vs Utah Royals - Sunday\, August 3rd 6PM
DESCRIPTION:The Foundation for Foster Children has partnered with the Orlando Pride to offer free tickets to several home games! We are so excited to share this opportunity with our families. \nTickets will be first-come\, first-served and sent to you digitally through Ticketmaster. You must have or create a Ticketmaster account using the email you provide below to receive your tickets. \n\n\nPlease only RSVP if you are committed to attending. \n\n\nYou will receive an email confirmation if your request is approved\, and the tickets will be transferred to your Ticketmaster account. \n\n\nPlease note: To ensure as many foster children and youth as possible can enjoy this opportunity\, each family group may request up to 5 tickets total. Spots are limited\, so RSVP only for those who will attend! \nAt Foundation for Foster Children (FFC)\, we are committed to supporting foster children\, foster youth\, and their families by providing access to our Enrichment Services. These services are available to: \n– Foster children and youth who are part of a licensed foster family\, kinship care family (Relative/Non-Relative)\, Group home. Transition Home. \n– Adopted children: To be eligible for Enrichment Services\, the child or youth must have received services from FFC at least three years prior to their adoption (as of January 1st\, 2022). \nPlease list the full names of each person in your party attending the event. If you are RSVPing for a foster child or youth\, they must be enrolled in the Enrich program to participate. If they have not yet completed the one-time Enrich Enrollment Form\, please complete it HERE before attending.
URL:https://foundationforfosterchildren.org/event/orlando-pride-vs-utah-royals-sunday-august-3rd-6pm/
CATEGORIES:Enrich
END:VEVENT
BEGIN:VEVENT
DTSTART;TZID=America/New_York:20250802T100000
DTEND;TZID=America/New_York:20250802T120000
DTSTAMP:20260425T212818
CREATED:20250423T172929Z
LAST-MODIFIED:20250801T151709Z
UID:10000355-1754128800-1754136000@foundationforfosterchildren.org
SUMMARY:Back-to-School Bash RSVP
DESCRIPTION:Join us for a fun and family-friendly Back-to-School Event! Families will have the opportunity to pick up school supplies and enjoy kid-friendly activities designed to start the school year off right. \n🗓 Date: Saturday\, August 2nd🕙 Time: 10:00 AM – 12:00 PM (Choose a 30-minute time slot that works best for your family)📍 Location: Foundation for Foster Children2265 Lee Rd\, Winter Park\, FL 32789 (Parking lot) \n👨‍👩‍👧‍👦 Open to all ages – come celebrate the new school year with us! \nSpots are limited – please RSVP below to reserve your time slot. To help us manage the flow of attendees and ensure every child has a great experience\, please RSVP only for the children and youth who will be attending. Adults do not need to be included in the RSVP count.
URL:https://foundationforfosterchildren.org/event/back-to-school-bash-rsvp/
LOCATION:FFC Office\, 2265 Lee Rd Suite 203\, Winter Park\, FL\, 32789\, United States
CATEGORIES:Enrich
END:VEVENT
BEGIN:VEVENT
DTSTART;TZID=America/New_York:20250711T140000
DTEND;TZID=America/New_York:20250711T170000
DTSTAMP:20260425T212818
CREATED:20250319T185556Z
LAST-MODIFIED:20250319T185955Z
UID:10000340-1752242400-1752253200@foundationforfosterchildren.org
SUMMARY:Hawaii Fluid
DESCRIPTION:Get ready for a fun and colorful experience at Hawaii Fluid Art! We’re taking 22 students for a hands-on painting session where creativity knows no limits. Attendees will get to choose between painting a Bear Bunny or a Piggy Bank\, transforming their piece into a unique work of art. \nWith guidance from professional instructors\, students will explore vibrant colors and fluid painting techniques in a relaxed\, welcoming environment. This is the perfect opportunity to express creativity\, learn new skills\, and take home a special keepsake! Learn more about Hawaii Fluid here  \n✨ Important Details:🎨 This event is only for students ages 7-18 (tickets are limited).👩‍👧 Foster parents & caregivers are welcome to purchase their own tickets if they’d like to paint or simply hang out and enjoy the experience. \nPlease note: To ensure as many foster children and youth as possible can enjoy this opportunity\, each family group may request up to 3 tickets total (including siblings and other family members between the age range). Spots are limited\, so RSVP only for those who will attend! \nAt Foundation for Foster Children (FFC)\, we are committed to supporting foster children\, foster youth\, and their families by providing access to our Enrichment Services. These services are available to: \n– Foster children and youth who are part of a licensed foster family\, kinship care family (Relative/Non-Relative)\, Group home. Transition Home. \n– Adopted children: To be eligible for Enrichment Services\, the child or youth must have received services from FFC at least three years prior to their adoption (as of January 1st\, 2022). \nPlease list the full names of each person in your party attending the event. If you are RSVPing for a foster child or youth\, they must be enrolled in the Enrich program to participate. If they have not yet completed the one-time Enrich Enrollment Form\, please complete it HERE before attending.
URL:https://foundationforfosterchildren.org/event/hawaii-fluid/
CATEGORIES:Enrich
END:VEVENT
BEGIN:VEVENT
DTSTART;VALUE=DATE:20250621
DTEND;VALUE=DATE:20250622
DTSTAMP:20260425T212818
CREATED:20250313T164949Z
LAST-MODIFIED:20250502T154758Z
UID:10000333-1750464000-1750550399@foundationforfosterchildren.org
SUMMARY:Aquatica Tickets
DESCRIPTION:At Foundation for Foster Children (FFC)\, we are committed to supporting foster children\, foster youth\, and their families by providing access to our Enrichment Services. These services are available to: \n– Foster children and youth who are part of a licensed foster family\, kinship care family (Relative/Non-Relative)\, Group home. Transition Home. \n– Adopted children: To be eligible for Enrichment Services\, the child or youth must have received services from FFC at least three years prior to their adoption (as of January 1st\, 2022). \nPlease list the full names of each person in your party attending the event. If you are RSVPing for a foster child or youth\, they must be enrolled in the Enrich program to participate. If they have not yet completed the one-time Enrich Enrollment Form\, please complete it HERE before attending. \nPlease note: To ensure as many foster families as possible can enjoy this opportunity\, each family group may request up to 5 tickets total (including chaperones and siblings). Spots are limited\, so RSVP only for those who will attend! The RSVP confirmation you receive is NOT your actual ticket. Aquatica tickets can be picked up at the FFC office the week of June 16th.
URL:https://foundationforfosterchildren.org/event/aquatica-tickets/
LOCATION:Aquatica\, 5800 Water Play Way\, Orlando\, FL\, 32821\, United States
CATEGORIES:Enrich
END:VEVENT
BEGIN:VEVENT
DTSTART;TZID=America/New_York:20250531T180000
DTEND;TZID=America/New_York:20250531T210000
DTSTAMP:20260425T212818
CREATED:20250528T150353Z
LAST-MODIFIED:20250528T150444Z
UID:10000361-1748714400-1748725200@foundationforfosterchildren.org
SUMMARY:2025 Applause Awards Ceremony - Dr. Phillips Center
DESCRIPTION:50 productions. 39 high schools. One incredible night.\nThe Applause Awards is a celebration of excellence in high school musical theater. A panel of 20 casting agents\, show directors and industry professionals selected nearly 400 students from 38 high schools across ten counties to participate in this high-energy evening – featuring live performances by the winning casts in the Outstanding Musical category\, character medleys by the winning Outstanding Lead Performers and much more! \nThis experience includes concession snacks and a ticket to the show \nMore information here 
URL:https://foundationforfosterchildren.org/event/2025-applause-awards-ceremony-dr-phillips-center/
CATEGORIES:Enrich
END:VEVENT
BEGIN:VEVENT
DTSTART;TZID=America/New_York:20250524T100000
DTEND;TZID=America/New_York:20250524T170000
DTSTAMP:20260425T212818
CREATED:20250319T193722Z
LAST-MODIFIED:20250319T193840Z
UID:10000341-1748080800-1748106000@foundationforfosterchildren.org
SUMMARY:Central Florida Zoo
DESCRIPTION:At Foundation for Foster Children (FFC)\, we are committed to supporting foster children\, foster youth\, and their families by providing access to our Enrichment Services. These services are available to: \n– Foster children and youth who are part of a licensed foster family\, kinship care family (Relative/Non-Relative)\, Group home. Transition Home. \n– Adopted children: To be eligible for Enrichment Services\, the child or youth must have received services from FFC at least three years prior to their adoption (as of January 1st\, 2022). \nPlease list the full names of each person in your party attending the event. If you are RSVPing for a foster child or youth\, they must be enrolled in the Enrich program to participate. If they have not yet completed the one-time Enrich Enrollment Form\, please complete it HERE before attending. \nPlease note: We have two types of tickets\, 50 tickets for students 3-18 and 25 tickets for adults\, anyone over 18. To ensure as many foster families as possible can enjoy this opportunity\, each family group may request up to 5 tickets total (including siblings\, other family members\, and adults). Spots are limited\, so RSVP only for those who will attend! The RSVP confirmation you receive is NOT your actual ticket. Central Florida ZOO wristbands will be handed out at the zoo on Saturday\, May 24th at 10 am.  \n\n\n*Children under 2 are FREE.
URL:https://foundationforfosterchildren.org/event/central-florida-zoo/
CATEGORIES:Enrich
END:VEVENT
BEGIN:VEVENT
DTSTART;TZID=America/New_York:20250427T110000
DTEND;TZID=America/New_York:20250427T120000
DTSTAMP:20260425T212818
CREATED:20250314T154813Z
LAST-MODIFIED:20250422T192537Z
UID:10000338-1745751600-1745755200@foundationforfosterchildren.org
SUMMARY:SeaLife - Sunday\, April 27th
DESCRIPTION:At Foundation for Foster Children (FFC)\, we are committed to supporting foster children\, foster youth\, and their families by providing access to our Enrichment Services. These services are available to: \n– Foster children and youth who are part of a licensed foster family\, kinship care family (Relative/Non-Relative)\, Group home. Transition Home. \n– Adopted children: To be eligible for Enrichment Services\, the child or youth must have received services from FFC at least three years prior to their adoption (as of January 1st\, 2022). \nPlease list the full names of each person in your party attending the event. If you are RSVPing for a foster child or youth\, they must be enrolled in the Enrich program to participate. If they have not yet completed the one-time Enrich Enrollment Form\, please complete it HERE before attending. \nPlease note: Tickets are good for children ages 2-12 years old. To ensure as many foster families as possible can enjoy this opportunity\, each family group may request up to 5 tickets total (including siblings and other family members). Spots are limited\, so RSVP only for those who will attend! The RSVP confirmation you receive is NOT your actual ticket. SeaLife tickets will be distributed on the day of the event OR will be available for early pick-up. Stay tuned for instructions!
URL:https://foundationforfosterchildren.org/event/sealife-sunday-april-27th/
LOCATION:SeaLife\, 8449 International Dr\, Orlando\, FL\, 32819\, United States
CATEGORIES:Enrich
END:VEVENT
BEGIN:VEVENT
DTSTART;TZID=America/New_York:20250415T080000
DTEND;TZID=America/New_York:20250515T170000
DTSTAMP:20260425T212818
CREATED:20250226T155609Z
LAST-MODIFIED:20250305T164727Z
UID:10000328-1744704000-1747328400@foundationforfosterchildren.org
SUMMARY:Museum of Illusions Orlando
DESCRIPTION:At Foundation for Foster Children (FFC)\, we are committed to supporting foster children\, foster youth\, and their families by providing access to our Enrichment Services. These services are available to: \n– Foster children and youth who are part of a licensed foster family\, kinship care family (Relative/Non-Relative)\, Group home. Transition Home. \n– Adopted children: To be eligible for Enrichment Services\, the child or youth must have received services from FFC at least three years prior to their adoption (as of January 1st\, 2022). \nPlease list the full names of each person in your party attending the event. If you are RSVPing for a foster child or youth\, they must be enrolled in the Enrich program to participate. If they have not yet completed the one-time Enrich Enrollment Form\, please complete it HERE before attending. \nPlease note: The RSVP confirmation you receive is NOT your actual ticket. Official Museum of Illusions tickets will be sent in a separate email within 24-48. Be sure to check your email\, including your spam/junk folder\, for ticket delivery. Tickets are valid from April 15th – May 15th \nReady to RSVP? Click here 
URL:https://foundationforfosterchildren.org/event/museum-of-illusions-orlando/
CATEGORIES:Enrich
END:VEVENT
BEGIN:VEVENT
DTSTART;TZID=America/New_York:20250411T160000
DTEND;TZID=America/New_York:20250411T180000
DTSTAMP:20260425T212818
CREATED:20250128T175203Z
LAST-MODIFIED:20250411T171553Z
UID:10000184-1744387200-1744394400@foundationforfosterchildren.org
SUMMARY:Planetarium Experience
DESCRIPTION:The Foundation for Foster Children is partnering with the Orlando Science Center to bring an incredible mobile planetarium experience to you! Step inside an inflatable dome and journey through space with expert instructors guiding you through the stars\, planets\, and galaxies. This interactive experience makes learning about the universe fun and engaging for all ages. \n✨ What to Expect: \n\nA fully immersive 360° space experience inside the mobile planetarium\nExpert-led astronomy lessons and exciting discoveries about our solar system\nA unique opportunity to explore the wonders of space without leaving the ground\n\nEVENT DETAILS: \n\nTime: 4 pm – 6 pm\nAddress: 721 West New England Ave.\, Winter Park\, FL\, 32789 (Winter Park Community Center)\n\nBasketball court!\n\n\nWe will be offering 3 time slots (4:00 pm\, 4:45 pm and 5:15 pm)\n\nAt Foundation for Foster Children (FFC)\, we are committed to supporting foster children\, foster youth\, and their families by providing access to our Enrichment Services. These services are available to: \n– Foster children and youth who are part of a licensed foster family\, kinship care family (Relative/Non-Relative)\, Group home. Transition Home. \n– Adopted children: To be eligible for Enrichment Services\, the child or youth must have received services from FFC at least three years prior to their adoption (as of January 1st\, 2022). \nYou must be enrolled in the Enrich program to participate in this Explore initiative. To enroll please complete the form here 
URL:https://foundationforfosterchildren.org/event/planetarium-experience/
LOCATION:Winter Park Community Center\, 721 West New England Ave.\, Winter Park\, FL\, 32789\, United States
CATEGORIES:Enrich
END:VEVENT
BEGIN:VEVENT
DTSTART;TZID=America/New_York:20250329T090000
DTEND;TZID=America/New_York:20250329T170000
DTSTAMP:20260425T212818
CREATED:20250306T170830Z
LAST-MODIFIED:20250306T170952Z
UID:10000330-1743238800-1743267600@foundationforfosterchildren.org
SUMMARY:Orlando All Pro Dad Experience
DESCRIPTION:At Foundation for Foster Children (FFC)\, we are committed to supporting foster children\, foster youth\, and their families by providing access to our Enrichment Services. These services are available to: \n– Foster children and youth who are part of a licensed foster family\, kinship care family (Relative/Non-Relative)\, Group home. Transition Home. \n– Adopted children: To be eligible for Enrichment Services\, the child or youth must have received services from FFC at least three years prior to their adoption (as of January 1st\, 2022). \nONE FAMILY TICKET IS GOOD FOR ONE (1) DAD PLUS UP TO SIX (6) CHILDREN \nPlease list the full names of each person in your party attending the event. If you are RSVPing for a foster child or youth\, they must be enrolled in the Enrich program to participate. If they have not yet completed the one-time Enrich Enrollment Form\, please complete it HERE before attending. \nPlease note: The RSVP confirmation you receive is NOT your actual ticket. Official tickets will be sent in a separate email within 24-48. Be sure to check your email\, including your spam/junk folder\, for ticket delivery. \nMore information about the event can be found here https://www.campingworldstadium.com/events/detail/all-pro-dad-experience-2025
URL:https://foundationforfosterchildren.org/event/orlando-all-pro-dad-experience/
CATEGORIES:Enrich
END:VEVENT
BEGIN:VEVENT
DTSTART;TZID=America/New_York:20250321T080000
DTEND;TZID=America/New_York:20250321T170000
DTSTAMP:20260425T212818
CREATED:20250128T174705Z
LAST-MODIFIED:20250225T155607Z
UID:10000183-1742544000-1742576400@foundationforfosterchildren.org
SUMMARY:Friday\, March 21st - Orlando Science Center
DESCRIPTION:You must be enrolled in the Enrich program to participate in this Explore initiative. To enroll please complete the form here  If you are already enrolled\, click here to RSVP for the event
URL:https://foundationforfosterchildren.org/event/friday-march-21st-orlando-science-center/
CATEGORIES:Enrich
END:VEVENT
BEGIN:VEVENT
DTSTART;TZID=America/New_York:20250319T190000
DTEND;TZID=America/New_York:20250319T210000
DTSTAMP:20260425T212818
CREATED:20250128T174549Z
LAST-MODIFIED:20250225T160019Z
UID:10000182-1742410800-1742418000@foundationforfosterchildren.org
SUMMARY:Wednesday\, March 19th - Orlando Magic vs Rockets
DESCRIPTION:Please list the full names of each person in your party attending the event. If you are RSVPing for a foster child or youth\, they must be enrolled in the Enrich program to participate. If they have not yet completed the one-time Enrich Enrollment Form\, please complete it HERE before attending. \nOrlando Magic GamesPlease note: The RSVP confirmation you receive is NOT your actual game ticket. Official Orlando Magic game tickets will be sent in a separate email 24-48 hours before the game. Be sure to check your email\, including your spam/junk folder\, for ticket delivery. \nReady to RSVP? Click here 
URL:https://foundationforfosterchildren.org/event/wednesday-march-19th-orlando-magic-vs-rockets/
CATEGORIES:Enrich
END:VEVENT
END:VCALENDAR