BEGIN:VCALENDAR
VERSION:2.0
PRODID:-//Foundation for Foster Children - ECPv6.9.1//NONSGML v1.0//EN
CALSCALE:GREGORIAN
METHOD:PUBLISH
X-WR-CALNAME:Foundation for Foster Children
X-ORIGINAL-URL:https://foundationforfosterchildren.org
X-WR-CALDESC:Events for Foundation for Foster Children
REFRESH-INTERVAL;VALUE=DURATION:PT1H
X-Robots-Tag:noindex
X-PUBLISHED-TTL:PT1H
BEGIN:VTIMEZONE
TZID:America/New_York
BEGIN:DAYLIGHT
TZOFFSETFROM:-0500
TZOFFSETTO:-0400
TZNAME:EDT
DTSTART:20250309T070000
END:DAYLIGHT
BEGIN:STANDARD
TZOFFSETFROM:-0400
TZOFFSETTO:-0500
TZNAME:EST
DTSTART:20251102T060000
END:STANDARD
BEGIN:DAYLIGHT
TZOFFSETFROM:-0500
TZOFFSETTO:-0400
TZNAME:EDT
DTSTART:20260308T070000
END:DAYLIGHT
BEGIN:STANDARD
TZOFFSETFROM:-0400
TZOFFSETTO:-0500
TZNAME:EST
DTSTART:20261101T060000
END:STANDARD
END:VTIMEZONE
BEGIN:VEVENT
DTSTART;TZID=America/New_York:20260416T100000
DTEND;TZID=America/New_York:20260416T200000
DTSTAMP:20260425T122558
CREATED:20250219T174029Z
LAST-MODIFIED:20250220T152211Z
UID:10000201-1776333600-1776369600@foundationforfosterchildren.org
SUMMARY:Orlando Museum of Art - FREE Entry
DESCRIPTION:Access for All at OMA is a monthly free day dedicated to the community. On the third Thursday of each month\, OMA will extend their hours from 10 AM to 8 PM\, offering free admission to all visitors. Each event will feature live performances\, educational experiences\, and more! Sketching materials will be available to visitors between 5 pm and 7 pm\, and a docent-led highlights tour will be held at 7 pm. \nAccess for All at OMA 2025 Dates: \nJanuary 16\nFebruary 20\nMarch 20\nApril 17\nMay 15\nJune 19\nJuly 17\nAugust 21\nSeptember 18\nOctober 16\nDecember 18
URL:https://foundationforfosterchildren.org/event/happening-in-the-community-orlando-museum-of-art-free-entry/2026-04-16/
CATEGORIES:Free & Fun in the Community
END:VEVENT
BEGIN:VEVENT
DTSTART;TZID=America/New_York:20260406T080000
DTEND;TZID=America/New_York:20260406T170000
DTSTAMP:20260425T122558
CREATED:20250220T194037Z
LAST-MODIFIED:20250220T194406Z
UID:10000260-1775462400-1775494800@foundationforfosterchildren.org
SUMMARY:Leu Gardens - Free Day & Story Time
DESCRIPTION:Entry is FREE for everyone during select first Mondays of the month from 9 a.m. to 5 p.m. \n\nMonday\, March 03\, 2025\nMonday\, April 07\, 2025\nMonday\, May 05\, 2025\nMonday\, June 02\, 2025\nMonday\, July 07\, 2025
URL:https://foundationforfosterchildren.org/event/leu-gardens-free-day-story-time/2026-04-06/
CATEGORIES:Free & Fun in the Community
END:VEVENT
BEGIN:VEVENT
DTSTART;TZID=America/New_York:20260319T100000
DTEND;TZID=America/New_York:20260319T200000
DTSTAMP:20260425T122558
CREATED:20250219T174029Z
LAST-MODIFIED:20250220T152211Z
UID:10000200-1773914400-1773950400@foundationforfosterchildren.org
SUMMARY:Orlando Museum of Art - FREE Entry
DESCRIPTION:Access for All at OMA is a monthly free day dedicated to the community. On the third Thursday of each month\, OMA will extend their hours from 10 AM to 8 PM\, offering free admission to all visitors. Each event will feature live performances\, educational experiences\, and more! Sketching materials will be available to visitors between 5 pm and 7 pm\, and a docent-led highlights tour will be held at 7 pm. \nAccess for All at OMA 2025 Dates: \nJanuary 16\nFebruary 20\nMarch 20\nApril 17\nMay 15\nJune 19\nJuly 17\nAugust 21\nSeptember 18\nOctober 16\nDecember 18
URL:https://foundationforfosterchildren.org/event/happening-in-the-community-orlando-museum-of-art-free-entry/2026-03-19/
CATEGORIES:Free & Fun in the Community
END:VEVENT
BEGIN:VEVENT
DTSTART;TZID=America/New_York:20260302T080000
DTEND;TZID=America/New_York:20260302T170000
DTSTAMP:20260425T122558
CREATED:20250220T194037Z
LAST-MODIFIED:20250220T194406Z
UID:10000259-1772438400-1772470800@foundationforfosterchildren.org
SUMMARY:Leu Gardens - Free Day & Story Time
DESCRIPTION:Entry is FREE for everyone during select first Mondays of the month from 9 a.m. to 5 p.m. \n\nMonday\, March 03\, 2025\nMonday\, April 07\, 2025\nMonday\, May 05\, 2025\nMonday\, June 02\, 2025\nMonday\, July 07\, 2025
URL:https://foundationforfosterchildren.org/event/leu-gardens-free-day-story-time/2026-03-02/
CATEGORIES:Free & Fun in the Community
END:VEVENT
BEGIN:VEVENT
DTSTART;TZID=America/New_York:20260219T170000
DTEND;TZID=America/New_York:20260219T210000
DTSTAMP:20260425T122558
CREATED:20250220T194616Z
LAST-MODIFIED:20250220T194616Z
UID:10000311-1771520400-1771534800@foundationforfosterchildren.org
SUMMARY:Orange County History Center - Free Admission
DESCRIPTION:Enjoy free admission to the Orange County History Center on event nights. Discover four floors of Central Florida history across an array of rotating and permanent exhibits\, immersive displays\, and interactive experiences.
URL:https://foundationforfosterchildren.org/event/orange-county-history-center-free-admission/2026-02-19/
CATEGORIES:Free & Fun in the Community
END:VEVENT
BEGIN:VEVENT
DTSTART;TZID=America/New_York:20260219T100000
DTEND;TZID=America/New_York:20260219T200000
DTSTAMP:20260425T122558
CREATED:20250219T174029Z
LAST-MODIFIED:20250220T152211Z
UID:10000199-1771495200-1771531200@foundationforfosterchildren.org
SUMMARY:Orlando Museum of Art - FREE Entry
DESCRIPTION:Access for All at OMA is a monthly free day dedicated to the community. On the third Thursday of each month\, OMA will extend their hours from 10 AM to 8 PM\, offering free admission to all visitors. Each event will feature live performances\, educational experiences\, and more! Sketching materials will be available to visitors between 5 pm and 7 pm\, and a docent-led highlights tour will be held at 7 pm. \nAccess for All at OMA 2025 Dates: \nJanuary 16\nFebruary 20\nMarch 20\nApril 17\nMay 15\nJune 19\nJuly 17\nAugust 21\nSeptember 18\nOctober 16\nDecember 18
URL:https://foundationforfosterchildren.org/event/happening-in-the-community-orlando-museum-of-art-free-entry/2026-02-19/
CATEGORIES:Free & Fun in the Community
END:VEVENT
BEGIN:VEVENT
DTSTART;TZID=America/New_York:20260202T080000
DTEND;TZID=America/New_York:20260202T170000
DTSTAMP:20260425T122558
CREATED:20250220T194037Z
LAST-MODIFIED:20250220T194406Z
UID:10000258-1770019200-1770051600@foundationforfosterchildren.org
SUMMARY:Leu Gardens - Free Day & Story Time
DESCRIPTION:Entry is FREE for everyone during select first Mondays of the month from 9 a.m. to 5 p.m. \n\nMonday\, March 03\, 2025\nMonday\, April 07\, 2025\nMonday\, May 05\, 2025\nMonday\, June 02\, 2025\nMonday\, July 07\, 2025
URL:https://foundationforfosterchildren.org/event/leu-gardens-free-day-story-time/2026-02-02/
CATEGORIES:Free & Fun in the Community
END:VEVENT
BEGIN:VEVENT
DTSTART;TZID=America/New_York:20260115T100000
DTEND;TZID=America/New_York:20260115T200000
DTSTAMP:20260425T122558
CREATED:20250219T174029Z
LAST-MODIFIED:20250220T152211Z
UID:10000198-1768471200-1768507200@foundationforfosterchildren.org
SUMMARY:Orlando Museum of Art - FREE Entry
DESCRIPTION:Access for All at OMA is a monthly free day dedicated to the community. On the third Thursday of each month\, OMA will extend their hours from 10 AM to 8 PM\, offering free admission to all visitors. Each event will feature live performances\, educational experiences\, and more! Sketching materials will be available to visitors between 5 pm and 7 pm\, and a docent-led highlights tour will be held at 7 pm. \nAccess for All at OMA 2025 Dates: \nJanuary 16\nFebruary 20\nMarch 20\nApril 17\nMay 15\nJune 19\nJuly 17\nAugust 21\nSeptember 18\nOctober 16\nDecember 18
URL:https://foundationforfosterchildren.org/event/happening-in-the-community-orlando-museum-of-art-free-entry/2026-01-15/
CATEGORIES:Free & Fun in the Community
END:VEVENT
BEGIN:VEVENT
DTSTART;TZID=America/New_York:20260105T080000
DTEND;TZID=America/New_York:20260105T170000
DTSTAMP:20260425T122558
CREATED:20250220T194037Z
LAST-MODIFIED:20250220T194406Z
UID:10000257-1767600000-1767632400@foundationforfosterchildren.org
SUMMARY:Leu Gardens - Free Day & Story Time
DESCRIPTION:Entry is FREE for everyone during select first Mondays of the month from 9 a.m. to 5 p.m. \n\nMonday\, March 03\, 2025\nMonday\, April 07\, 2025\nMonday\, May 05\, 2025\nMonday\, June 02\, 2025\nMonday\, July 07\, 2025
URL:https://foundationforfosterchildren.org/event/leu-gardens-free-day-story-time/2026-01-05/
CATEGORIES:Free & Fun in the Community
END:VEVENT
BEGIN:VEVENT
DTSTART;TZID=America/New_York:20251218T100000
DTEND;TZID=America/New_York:20251218T200000
DTSTAMP:20260425T122558
CREATED:20250219T174029Z
LAST-MODIFIED:20250220T152211Z
UID:10000197-1766052000-1766088000@foundationforfosterchildren.org
SUMMARY:Orlando Museum of Art - FREE Entry
DESCRIPTION:Access for All at OMA is a monthly free day dedicated to the community. On the third Thursday of each month\, OMA will extend their hours from 10 AM to 8 PM\, offering free admission to all visitors. Each event will feature live performances\, educational experiences\, and more! Sketching materials will be available to visitors between 5 pm and 7 pm\, and a docent-led highlights tour will be held at 7 pm. \nAccess for All at OMA 2025 Dates: \nJanuary 16\nFebruary 20\nMarch 20\nApril 17\nMay 15\nJune 19\nJuly 17\nAugust 21\nSeptember 18\nOctober 16\nDecember 18
URL:https://foundationforfosterchildren.org/event/happening-in-the-community-orlando-museum-of-art-free-entry/2025-12-18/
CATEGORIES:Free & Fun in the Community
END:VEVENT
BEGIN:VEVENT
DTSTART;TZID=America/New_York:20251201T080000
DTEND;TZID=America/New_York:20251201T170000
DTSTAMP:20260425T122558
CREATED:20250220T194037Z
LAST-MODIFIED:20250220T194406Z
UID:10000256-1764576000-1764608400@foundationforfosterchildren.org
SUMMARY:Leu Gardens - Free Day & Story Time
DESCRIPTION:Entry is FREE for everyone during select first Mondays of the month from 9 a.m. to 5 p.m. \n\nMonday\, March 03\, 2025\nMonday\, April 07\, 2025\nMonday\, May 05\, 2025\nMonday\, June 02\, 2025\nMonday\, July 07\, 2025
URL:https://foundationforfosterchildren.org/event/leu-gardens-free-day-story-time/2025-12-01/
CATEGORIES:Free & Fun in the Community
END:VEVENT
BEGIN:VEVENT
DTSTART;TZID=America/New_York:20251120T170000
DTEND;TZID=America/New_York:20251120T210000
DTSTAMP:20260425T122558
CREATED:20250220T194616Z
LAST-MODIFIED:20250220T194616Z
UID:10000310-1763658000-1763672400@foundationforfosterchildren.org
SUMMARY:Orange County History Center - Free Admission
DESCRIPTION:Enjoy free admission to the Orange County History Center on event nights. Discover four floors of Central Florida history across an array of rotating and permanent exhibits\, immersive displays\, and interactive experiences.
URL:https://foundationforfosterchildren.org/event/orange-county-history-center-free-admission/2025-11-20/
CATEGORIES:Free & Fun in the Community
END:VEVENT
BEGIN:VEVENT
DTSTART;TZID=America/New_York:20251120T100000
DTEND;TZID=America/New_York:20251120T200000
DTSTAMP:20260425T122558
CREATED:20250219T174029Z
LAST-MODIFIED:20250220T152211Z
UID:10000196-1763632800-1763668800@foundationforfosterchildren.org
SUMMARY:Orlando Museum of Art - FREE Entry
DESCRIPTION:Access for All at OMA is a monthly free day dedicated to the community. On the third Thursday of each month\, OMA will extend their hours from 10 AM to 8 PM\, offering free admission to all visitors. Each event will feature live performances\, educational experiences\, and more! Sketching materials will be available to visitors between 5 pm and 7 pm\, and a docent-led highlights tour will be held at 7 pm. \nAccess for All at OMA 2025 Dates: \nJanuary 16\nFebruary 20\nMarch 20\nApril 17\nMay 15\nJune 19\nJuly 17\nAugust 21\nSeptember 18\nOctober 16\nDecember 18
URL:https://foundationforfosterchildren.org/event/happening-in-the-community-orlando-museum-of-art-free-entry/2025-11-20/
CATEGORIES:Free & Fun in the Community
END:VEVENT
BEGIN:VEVENT
DTSTART;TZID=America/New_York:20251103T080000
DTEND;TZID=America/New_York:20251103T170000
DTSTAMP:20260425T122558
CREATED:20250220T194037Z
LAST-MODIFIED:20250220T194406Z
UID:10000255-1762156800-1762189200@foundationforfosterchildren.org
SUMMARY:Leu Gardens - Free Day & Story Time
DESCRIPTION:Entry is FREE for everyone during select first Mondays of the month from 9 a.m. to 5 p.m. \n\nMonday\, March 03\, 2025\nMonday\, April 07\, 2025\nMonday\, May 05\, 2025\nMonday\, June 02\, 2025\nMonday\, July 07\, 2025
URL:https://foundationforfosterchildren.org/event/leu-gardens-free-day-story-time/2025-11-03/
CATEGORIES:Free & Fun in the Community
END:VEVENT
BEGIN:VEVENT
DTSTART;TZID=America/New_York:20251016T100000
DTEND;TZID=America/New_York:20251016T200000
DTSTAMP:20260425T122558
CREATED:20250219T174029Z
LAST-MODIFIED:20250220T152211Z
UID:10000195-1760608800-1760644800@foundationforfosterchildren.org
SUMMARY:Orlando Museum of Art - FREE Entry
DESCRIPTION:Access for All at OMA is a monthly free day dedicated to the community. On the third Thursday of each month\, OMA will extend their hours from 10 AM to 8 PM\, offering free admission to all visitors. Each event will feature live performances\, educational experiences\, and more! Sketching materials will be available to visitors between 5 pm and 7 pm\, and a docent-led highlights tour will be held at 7 pm. \nAccess for All at OMA 2025 Dates: \nJanuary 16\nFebruary 20\nMarch 20\nApril 17\nMay 15\nJune 19\nJuly 17\nAugust 21\nSeptember 18\nOctober 16\nDecember 18
URL:https://foundationforfosterchildren.org/event/happening-in-the-community-orlando-museum-of-art-free-entry/2025-10-16/
CATEGORIES:Free & Fun in the Community
END:VEVENT
BEGIN:VEVENT
DTSTART;TZID=America/New_York:20251006T080000
DTEND;TZID=America/New_York:20251006T170000
DTSTAMP:20260425T122558
CREATED:20250220T194037Z
LAST-MODIFIED:20250220T194406Z
UID:10000254-1759737600-1759770000@foundationforfosterchildren.org
SUMMARY:Leu Gardens - Free Day & Story Time
DESCRIPTION:Entry is FREE for everyone during select first Mondays of the month from 9 a.m. to 5 p.m. \n\nMonday\, March 03\, 2025\nMonday\, April 07\, 2025\nMonday\, May 05\, 2025\nMonday\, June 02\, 2025\nMonday\, July 07\, 2025
URL:https://foundationforfosterchildren.org/event/leu-gardens-free-day-story-time/2025-10-06/
CATEGORIES:Free & Fun in the Community
END:VEVENT
BEGIN:VEVENT
DTSTART;TZID=America/New_York:20250918T100000
DTEND;TZID=America/New_York:20250918T200000
DTSTAMP:20260425T122558
CREATED:20250219T174029Z
LAST-MODIFIED:20250220T152211Z
UID:10000194-1758189600-1758225600@foundationforfosterchildren.org
SUMMARY:Orlando Museum of Art - FREE Entry
DESCRIPTION:Access for All at OMA is a monthly free day dedicated to the community. On the third Thursday of each month\, OMA will extend their hours from 10 AM to 8 PM\, offering free admission to all visitors. Each event will feature live performances\, educational experiences\, and more! Sketching materials will be available to visitors between 5 pm and 7 pm\, and a docent-led highlights tour will be held at 7 pm. \nAccess for All at OMA 2025 Dates: \nJanuary 16\nFebruary 20\nMarch 20\nApril 17\nMay 15\nJune 19\nJuly 17\nAugust 21\nSeptember 18\nOctober 16\nDecember 18
URL:https://foundationforfosterchildren.org/event/happening-in-the-community-orlando-museum-of-art-free-entry/2025-09-18/
CATEGORIES:Free & Fun in the Community
END:VEVENT
BEGIN:VEVENT
DTSTART;TZID=America/New_York:20250901T080000
DTEND;TZID=America/New_York:20250901T170000
DTSTAMP:20260425T122558
CREATED:20250220T194037Z
LAST-MODIFIED:20250220T194406Z
UID:10000253-1756713600-1756746000@foundationforfosterchildren.org
SUMMARY:Leu Gardens - Free Day & Story Time
DESCRIPTION:Entry is FREE for everyone during select first Mondays of the month from 9 a.m. to 5 p.m. \n\nMonday\, March 03\, 2025\nMonday\, April 07\, 2025\nMonday\, May 05\, 2025\nMonday\, June 02\, 2025\nMonday\, July 07\, 2025
URL:https://foundationforfosterchildren.org/event/leu-gardens-free-day-story-time/2025-09-01/
CATEGORIES:Free & Fun in the Community
END:VEVENT
BEGIN:VEVENT
DTSTART;TZID=America/New_York:20250821T170000
DTEND;TZID=America/New_York:20250821T210000
DTSTAMP:20260425T122558
CREATED:20250220T194616Z
LAST-MODIFIED:20250220T194616Z
UID:10000309-1755795600-1755810000@foundationforfosterchildren.org
SUMMARY:Orange County History Center - Free Admission
DESCRIPTION:Enjoy free admission to the Orange County History Center on event nights. Discover four floors of Central Florida history across an array of rotating and permanent exhibits\, immersive displays\, and interactive experiences.
URL:https://foundationforfosterchildren.org/event/orange-county-history-center-free-admission/2025-08-21/
CATEGORIES:Free & Fun in the Community
END:VEVENT
BEGIN:VEVENT
DTSTART;TZID=America/New_York:20250821T100000
DTEND;TZID=America/New_York:20250821T200000
DTSTAMP:20260425T122558
CREATED:20250219T174029Z
LAST-MODIFIED:20250220T152211Z
UID:10000193-1755770400-1755806400@foundationforfosterchildren.org
SUMMARY:Orlando Museum of Art - FREE Entry
DESCRIPTION:Access for All at OMA is a monthly free day dedicated to the community. On the third Thursday of each month\, OMA will extend their hours from 10 AM to 8 PM\, offering free admission to all visitors. Each event will feature live performances\, educational experiences\, and more! Sketching materials will be available to visitors between 5 pm and 7 pm\, and a docent-led highlights tour will be held at 7 pm. \nAccess for All at OMA 2025 Dates: \nJanuary 16\nFebruary 20\nMarch 20\nApril 17\nMay 15\nJune 19\nJuly 17\nAugust 21\nSeptember 18\nOctober 16\nDecember 18
URL:https://foundationforfosterchildren.org/event/happening-in-the-community-orlando-museum-of-art-free-entry/2025-08-21/
CATEGORIES:Free & Fun in the Community
END:VEVENT
BEGIN:VEVENT
DTSTART;TZID=America/New_York:20250804T080000
DTEND;TZID=America/New_York:20250804T170000
DTSTAMP:20260425T122558
CREATED:20250220T194037Z
LAST-MODIFIED:20250220T194406Z
UID:10000252-1754294400-1754326800@foundationforfosterchildren.org
SUMMARY:Leu Gardens - Free Day & Story Time
DESCRIPTION:Entry is FREE for everyone during select first Mondays of the month from 9 a.m. to 5 p.m. \n\nMonday\, March 03\, 2025\nMonday\, April 07\, 2025\nMonday\, May 05\, 2025\nMonday\, June 02\, 2025\nMonday\, July 07\, 2025
URL:https://foundationforfosterchildren.org/event/leu-gardens-free-day-story-time/2025-08-04/
CATEGORIES:Free & Fun in the Community
END:VEVENT
BEGIN:VEVENT
DTSTART;TZID=America/New_York:20250717T100000
DTEND;TZID=America/New_York:20250717T200000
DTSTAMP:20260425T122558
CREATED:20250219T174029Z
LAST-MODIFIED:20250220T152211Z
UID:10000192-1752746400-1752782400@foundationforfosterchildren.org
SUMMARY:Orlando Museum of Art - FREE Entry
DESCRIPTION:Access for All at OMA is a monthly free day dedicated to the community. On the third Thursday of each month\, OMA will extend their hours from 10 AM to 8 PM\, offering free admission to all visitors. Each event will feature live performances\, educational experiences\, and more! Sketching materials will be available to visitors between 5 pm and 7 pm\, and a docent-led highlights tour will be held at 7 pm. \nAccess for All at OMA 2025 Dates: \nJanuary 16\nFebruary 20\nMarch 20\nApril 17\nMay 15\nJune 19\nJuly 17\nAugust 21\nSeptember 18\nOctober 16\nDecember 18
URL:https://foundationforfosterchildren.org/event/happening-in-the-community-orlando-museum-of-art-free-entry/2025-07-17/
CATEGORIES:Free & Fun in the Community
END:VEVENT
BEGIN:VEVENT
DTSTART;TZID=America/New_York:20250707T080000
DTEND;TZID=America/New_York:20250707T170000
DTSTAMP:20260425T122558
CREATED:20250220T194037Z
LAST-MODIFIED:20250220T194406Z
UID:10000251-1751875200-1751907600@foundationforfosterchildren.org
SUMMARY:Leu Gardens - Free Day & Story Time
DESCRIPTION:Entry is FREE for everyone during select first Mondays of the month from 9 a.m. to 5 p.m. \n\nMonday\, March 03\, 2025\nMonday\, April 07\, 2025\nMonday\, May 05\, 2025\nMonday\, June 02\, 2025\nMonday\, July 07\, 2025
URL:https://foundationforfosterchildren.org/event/leu-gardens-free-day-story-time/2025-07-07/
CATEGORIES:Free & Fun in the Community
END:VEVENT
BEGIN:VEVENT
DTSTART;TZID=America/New_York:20250619T100000
DTEND;TZID=America/New_York:20250619T200000
DTSTAMP:20260425T122558
CREATED:20250219T174029Z
LAST-MODIFIED:20250220T152211Z
UID:10000191-1750327200-1750363200@foundationforfosterchildren.org
SUMMARY:Orlando Museum of Art - FREE Entry
DESCRIPTION:Access for All at OMA is a monthly free day dedicated to the community. On the third Thursday of each month\, OMA will extend their hours from 10 AM to 8 PM\, offering free admission to all visitors. Each event will feature live performances\, educational experiences\, and more! Sketching materials will be available to visitors between 5 pm and 7 pm\, and a docent-led highlights tour will be held at 7 pm. \nAccess for All at OMA 2025 Dates: \nJanuary 16\nFebruary 20\nMarch 20\nApril 17\nMay 15\nJune 19\nJuly 17\nAugust 21\nSeptember 18\nOctober 16\nDecember 18
URL:https://foundationforfosterchildren.org/event/happening-in-the-community-orlando-museum-of-art-free-entry/2025-06-19/
CATEGORIES:Free & Fun in the Community
END:VEVENT
BEGIN:VEVENT
DTSTART;TZID=America/New_York:20250602T080000
DTEND;TZID=America/New_York:20250602T170000
DTSTAMP:20260425T122558
CREATED:20250220T194037Z
LAST-MODIFIED:20250220T194406Z
UID:10000250-1748851200-1748883600@foundationforfosterchildren.org
SUMMARY:Leu Gardens - Free Day & Story Time
DESCRIPTION:Entry is FREE for everyone during select first Mondays of the month from 9 a.m. to 5 p.m. \n\nMonday\, March 03\, 2025\nMonday\, April 07\, 2025\nMonday\, May 05\, 2025\nMonday\, June 02\, 2025\nMonday\, July 07\, 2025
URL:https://foundationforfosterchildren.org/event/leu-gardens-free-day-story-time/2025-06-02/
CATEGORIES:Free & Fun in the Community
END:VEVENT
BEGIN:VEVENT
DTSTART;TZID=America/New_York:20250515T170000
DTEND;TZID=America/New_York:20250515T210000
DTSTAMP:20260425T122558
CREATED:20250220T194616Z
LAST-MODIFIED:20250220T194616Z
UID:10000308-1747328400-1747342800@foundationforfosterchildren.org
SUMMARY:Orange County History Center - Free Admission
DESCRIPTION:Enjoy free admission to the Orange County History Center on event nights. Discover four floors of Central Florida history across an array of rotating and permanent exhibits\, immersive displays\, and interactive experiences.
URL:https://foundationforfosterchildren.org/event/orange-county-history-center-free-admission/2025-05-15/
CATEGORIES:Free & Fun in the Community
END:VEVENT
BEGIN:VEVENT
DTSTART;TZID=America/New_York:20250515T100000
DTEND;TZID=America/New_York:20250515T200000
DTSTAMP:20260425T122558
CREATED:20250219T174029Z
LAST-MODIFIED:20250220T152211Z
UID:10000190-1747303200-1747339200@foundationforfosterchildren.org
SUMMARY:Orlando Museum of Art - FREE Entry
DESCRIPTION:Access for All at OMA is a monthly free day dedicated to the community. On the third Thursday of each month\, OMA will extend their hours from 10 AM to 8 PM\, offering free admission to all visitors. Each event will feature live performances\, educational experiences\, and more! Sketching materials will be available to visitors between 5 pm and 7 pm\, and a docent-led highlights tour will be held at 7 pm. \nAccess for All at OMA 2025 Dates: \nJanuary 16\nFebruary 20\nMarch 20\nApril 17\nMay 15\nJune 19\nJuly 17\nAugust 21\nSeptember 18\nOctober 16\nDecember 18
URL:https://foundationforfosterchildren.org/event/happening-in-the-community-orlando-museum-of-art-free-entry/2025-05-15/
CATEGORIES:Free & Fun in the Community
END:VEVENT
BEGIN:VEVENT
DTSTART;TZID=America/New_York:20250505T080000
DTEND;TZID=America/New_York:20250505T170000
DTSTAMP:20260425T122558
CREATED:20250220T194037Z
LAST-MODIFIED:20250220T194406Z
UID:10000249-1746432000-1746464400@foundationforfosterchildren.org
SUMMARY:Leu Gardens - Free Day & Story Time
DESCRIPTION:Entry is FREE for everyone during select first Mondays of the month from 9 a.m. to 5 p.m. \n\nMonday\, March 03\, 2025\nMonday\, April 07\, 2025\nMonday\, May 05\, 2025\nMonday\, June 02\, 2025\nMonday\, July 07\, 2025
URL:https://foundationforfosterchildren.org/event/leu-gardens-free-day-story-time/2025-05-05/
CATEGORIES:Free & Fun in the Community
END:VEVENT
BEGIN:VEVENT
DTSTART;TZID=America/New_York:20250417T100000
DTEND;TZID=America/New_York:20250417T200000
DTSTAMP:20260425T122558
CREATED:20250219T174029Z
LAST-MODIFIED:20250220T152211Z
UID:10000189-1744884000-1744920000@foundationforfosterchildren.org
SUMMARY:Orlando Museum of Art - FREE Entry
DESCRIPTION:Access for All at OMA is a monthly free day dedicated to the community. On the third Thursday of each month\, OMA will extend their hours from 10 AM to 8 PM\, offering free admission to all visitors. Each event will feature live performances\, educational experiences\, and more! Sketching materials will be available to visitors between 5 pm and 7 pm\, and a docent-led highlights tour will be held at 7 pm. \nAccess for All at OMA 2025 Dates: \nJanuary 16\nFebruary 20\nMarch 20\nApril 17\nMay 15\nJune 19\nJuly 17\nAugust 21\nSeptember 18\nOctober 16\nDecember 18
URL:https://foundationforfosterchildren.org/event/happening-in-the-community-orlando-museum-of-art-free-entry/2025-04-17/
CATEGORIES:Free & Fun in the Community
END:VEVENT
BEGIN:VEVENT
DTSTART;TZID=America/New_York:20250407T080000
DTEND;TZID=America/New_York:20250407T170000
DTSTAMP:20260425T122558
CREATED:20250220T194037Z
LAST-MODIFIED:20250220T194406Z
UID:10000248-1744012800-1744045200@foundationforfosterchildren.org
SUMMARY:Leu Gardens - Free Day & Story Time
DESCRIPTION:Entry is FREE for everyone during select first Mondays of the month from 9 a.m. to 5 p.m. \n\nMonday\, March 03\, 2025\nMonday\, April 07\, 2025\nMonday\, May 05\, 2025\nMonday\, June 02\, 2025\nMonday\, July 07\, 2025
URL:https://foundationforfosterchildren.org/event/leu-gardens-free-day-story-time/2025-04-07/
CATEGORIES:Free & Fun in the Community
END:VEVENT
END:VCALENDAR